{"text_format":"1","workbook":"xlsx","n_sheets":5,"sheets":["Blindata Output","Inputs","Track Export 1","Track Export 2","Track Export 3"],"not_rendered":{"charts":0,"images":0,"macros":1,"external_links":1,"defined_names":2,"comments":0,"pivot_tables":0},"unopened":[],"bounds":{"document_bytes":16777216,"sheet_cells":100000,"rows_first":2000,"rows_last":500,"rows_between":2000,"halvings":0,"cell_chars":16384,"cell_head_chars":4096},"cells_cut":0,"cells_raw":0,"read":"whole","date_system":"1900"}

{"sheet":"Blindata Output","index":0,"n_rows":2,"n_cols":21,"rows_kept":2,"cut":false,"hidden":false,"merged":[]}
["Heading","Order Number","Blind Type","Blind Number","Customer","Location","Measured Width","Measured Drop","Fabric Colour","Inside / Outside Fit","Control Side","Stack Direction","Bracket Type","Control Drop","Despatch Method","Customer Reference","Fabric Drop","Head Track Length","Chain Length","Cord Length","Total Blades"]
["Blindata Field","'Order Number'","'Blind Type' e.g. BO, SS, TH","the number where the Blinds sits in the Order e.g. 15 (same as for 'Order Sheet #' in the Works Order)","if Customer =incl tax, then = Contact Name, else if Customer = excl tax then = Customer Name","'Location'","'Width' in Order Entry Screen","'Drop' in Order Entry Screen","'Fabric' in Order Entry Screen","Link Option 'Inside / Outside Fit","Link Option 'Control Side'","Link Option 'Stack Direction'","Link Option 'Bracket Type'","'Control Drop' in Cutting Options","'Despatch Method'","'Customer Reference'","'Fabric Drop' in Cutting Options","'Head Track Length' in Cutting Options","'Chain Length' in Cutting Options","'Cord Length' in Cutting Options","'Total Blades' as used in Works Order"]

{"sheet":"Inputs","index":1,"n_rows":72,"n_cols":29,"rows_kept":72,"cut":false,"hidden":false,"merged":[[9,16,10,16],[9,27,10,27],[9,18,10,18],[9,17,10,17],[9,21,10,21],[9,22,9,23],[9,24,9,25],[9,20,10,20],[9,19,10,19],[51,1,70,1],[11,1,30,1],[31,1,50,1],[9,12,9,13],[9,14,9,15],[9,11,10,11]]}
[null,null,"MR BLINDS VERTICAL BLIND DATA INPUT / OUTPUT",null,null,null,null,null,null,null,null,null,null,null,null,null,null,null,null,null,null,null,null,null,null,null,null,null,{"$f":"LEN(AC12)","v":0}]
[]
[]
[null,null,null,null,null,null,null,null,null,null,null,null,null,null,null,null,null,null,null,null,null,null,null,null,null,null,null,null,{"$f":"[1]Database!$T$3","v":19}]
[null,null,null,null,null,null,null,null,null,null,null,null,null,null,null,null,null,null,null,null,null,null,null,null,null,null,null,null,{"$f":"[1]Database!$U$3","v":20}]
[null,null,null,null,null,null,null,null,null,null,null,null,null,null,null,null,null,null,null,null,null,null,null,null,null,null,null,null,{"$f":"[1]Database!$Y$3","v":24}]
[null,null,null,null,null,null,null,null,null,null,null,null,null,null,null,null,null,null,null,null,null,null,null,null,null,null,null,null,{"$f":"[1]Database!$AA$3","v":26}]
[null,null,null,null,null,null,null,null,null,null,null,null,null,null,null,null,null,null,null,null,null,null,null,null,null,null,null,null,{"$f":"[1]Database!$AB$3","v":27}]
[null,null,null,null,null,null,null,null,null,null,null,{"$f":"[1]Database!$L$3-3","v":8},{"$f":"[1]Database!$W$3","v":22},{"$f":"[1]Database!$X$3","v":23},"CALC","CALC",{"$f":"[1]Database!$AH$3","v":33},{"$f":"[1]Database!$T$3","v":19},{"$f":"[1]Database!$Z$3","v":25},{"$f":"[1]Database!$AT$3-3","v":42},null,null,null,null,null,null,{"$f":"[1]Database!$AF$3","v":31}]
[null,null,null,null,null,null,null,null,null,null,null,"Customer Name","Window",null,"Adjusted",null,"Bracket Type","Blind #","Fabric Colour","Despatch Type","Prod. Bin","Blind Code","Window",null,"Adjusted",null,"Bottom Rail Type","Track Length","Track Decsription"]
[null,null,"Load Order","Invoice Number","Blind Type","Blind #","Colour","Width","Drop","Blind Code",null,null,"Width","Drop","Track Length","Fabric Drop",null,null,null,null,null,null,"Width","Drop","Width","Drop","Type | Colour | Install",null,"Blind# | Room | Ins-Out Fit | Control Side |  Stack Dirn"]
[null,"Export File #1",1,null,{"$f":"IF(ISBLANK(D12),\"\",\"VB\")","v":""},null,{"$f":"IF(S12<>\"\",UPPER(S12),\"\")","v":""},{"$f":"M12","v":""},{"$f":"N12","v":""},{"$f":"IF(D12<>\"\",$D12&\"-\"&E12&F12,\"\")","v":""},null,{"$f":"IF($J12<>\"\",VLOOKUP($D12,[1]Database!$E$6:$BI$15000,L$9,0),\"\")","v":""},{"$f":"IF($J12<>\"\",VLOOKUP($J12,[1]Database!$B$6:$BI$15000,M$9,0),\"\")","v":""},{"$f":"IF($J12<>\"\",VLOOKUP($J12,[1]Database!$B$6:$BI$15000,N$9,0),\"\")","v":""},{"$f":"IF($J12<>\"\",M12+'[1]Calc Inputs'!$D$20,\"\")","v":""},{"$f":"IF($J12<>\"\",N12+'[1]Calc Inputs'!$D$24,\"\")","v":""},{"$f":"IF($J12<>\"\",VLOOKUP($J12,[1]Database!$B$6:$BI$15000,Q$9,0),\"\")","v":""},{"$f":"IF($J12<>\"\",VLOOKUP($J12,[1]Database!$B$6:$BI$15000,R$9,0),\"\")","v":""},{"$f":"IF($J12<>\"\",VLOOKUP($J12,[1]Database!$B$6:$BI$15000,S$9,0),\"\")","v":""},{"$f":"IF($J12<>\"\",VLOOKUP($D12,[1]Database!$E$6:$BI$15000,T$9,0),\"\")","v":""},null,{"$f":"UPPER(IF(J12<>\"\",D12&\"-\"&LEFT(L12,11),\"\"))","v":""},{"$f":"IF($J12<>\"\",$M12,\"\")","v":""},{"$f":"IF($J12<>\"\",$N12,\"\")","v":""},{"$f":"IF($J12<>\"\",$O12,\"\")","v":""},{"$f":"IF($J12<>\"\",$P12,\"\")","v":""},{"$f":"UPPER(IF($J12<>\"\",$E12&\"-\"&$S12&\"-\"&LEFT($T12,7),\"\"))","v":""},{"$f":"Y12","v":""},{"$f":"UPPER(IF($J12<>\"\",\nVLOOKUP($J12,[1]Database!$B$6:$BI$15000,AC$4,0)&\"-\"&\nVLOOKUP($J12,[1]Database!$B$6:$BI$15000,AC$5,0)&\"-\"&\nVLOOKUP($J12,[1]Database!$B$6:$BI$15000,AC$6,0)&\"-\"&\nVLOOKUP($J12,[1]Database!$B$6:$BI$15000,AC$7,0)&\"-\"&\nVLOOKUP($J12,[1]Database!$B$6:$BI$15000,AC$8,0),\n\"\"))","v":""}]
[null,null,2,null,"",null,"","","","",null,{"$f":"IF($J13<>\"\",VLOOKUP($D13,[1]Database!$E$6:$BI$15000,L$9,0),\"\")","v":""},{"$f":"IF($J13<>\"\",VLOOKUP($J13,[1]Database!$B$6:$BI$15000,M$9,0),\"\")","v":""},{"$f":"IF($J13<>\"\",VLOOKUP($J13,[1]Database!$B$6:$BI$15000,N$9,0),\"\")","v":""},{"$f":"IF($J13<>\"\",M13+'[1]Calc Inputs'!$D$20,\"\")","v":""},{"$f":"IF($J13<>\"\",N13+'[1]Calc Inputs'!$D$24,\"\")","v":""},{"$f":"IF($J13<>\"\",VLOOKUP($J13,[1]Database!$B$6:$BI$15000,Q$9,0),\"\")","v":""},{"$f":"IF($J13<>\"\",VLOOKUP($J13,[1]Database!$B$6:$BI$15000,R$9,0),\"\")","v":""},{"$f":"IF($J13<>\"\",VLOOKUP($J13,[1]Database!$B$6:$BI$15000,S$9,0),\"\")","v":""},{"$f":"IF($J13<>\"\",VLOOKUP($D13,[1]Database!$E$6:$BI$15000,T$9,0),\"\")","v":""},null,{"$f":"UPPER(IF(J13<>\"\",D13&\"-\"&LEFT(L13,11),\"\"))","v":""},"","","","",{"$f":"UPPER(IF($J13<>\"\",$E13&\"-\"&$S13&\"-\"&LEFT($T13,7),\"\"))","v":""},{"$f":"Y13","v":""},{"$f":"UPPER(IF($J13<>\"\",\nVLOOKUP($J13,[1]Database!$B$6:$BI$15000,AC$4,0)&\"-\"&\nVLOOKUP($J13,[1]Database!$B$6:$BI$15000,AC$5,0)&\"-\"&\nVLOOKUP($J13,[1]Database!$B$6:$BI$15000,AC$6,0)&\"-\"&\nVLOOKUP($J13,[1]Database!$B$6:$BI$15000,AC$7,0)&\"-\"&\nVLOOKUP($J13,[1]Database!$B$6:$BI$15000,AC$8,0),\n\"\"))","v":""}]
[null,null,3,null,"",null,"","","","",null,{"$f":"IF($J14<>\"\",VLOOKUP($D14,[1]Database!$E$6:$BI$15000,L$9,0),\"\")","v":""},{"$f":"IF($J14<>\"\",VLOOKUP($J14,[1]Database!$B$6:$BI$15000,M$9,0),\"\")","v":""},{"$f":"IF($J14<>\"\",VLOOKUP($J14,[1]Database!$B$6:$BI$15000,N$9,0),\"\")","v":""},{"$f":"IF($J14<>\"\",M14+'[1]Calc Inputs'!$D$20,\"\")","v":""},{"$f":"IF($J14<>\"\",N14+'[1]Calc Inputs'!$D$24,\"\")","v":""},{"$f":"IF($J14<>\"\",VLOOKUP($J14,[1]Database!$B$6:$BI$15000,Q$9,0),\"\")","v":""},{"$f":"IF($J14<>\"\",VLOOKUP($J14,[1]Database!$B$6:$BI$15000,R$9,0),\"\")","v":""},{"$f":"IF($J14<>\"\",VLOOKUP($J14,[1]Database!$B$6:$BI$15000,S$9,0),\"\")","v":""},{"$f":"IF($J14<>\"\",VLOOKUP($D14,[1]Database!$E$6:$BI$15000,T$9,0),\"\")","v":""},null,"","","","","","","",{"$f":"UPPER(IF($J14<>\"\",\nVLOOKUP($J14,[1]Database!$B$6:$BI$15000,AC$4,0)&\"-\"&\nVLOOKUP($J14,[1]Database!$B$6:$BI$15000,AC$5,0)&\"-\"&\nVLOOKUP($J14,[1]Database!$B$6:$BI$15000,AC$6,0)&\"-\"&\nVLOOKUP($J14,[1]Database!$B$6:$BI$15000,AC$7,0)&\"-\"&\nVLOOKUP($J14,[1]Database!$B$6:$BI$15000,AC$8,0),\n\"\"))","v":""}]
[null,null,4,null,"",null,"","","","",null,{"$f":"IF($J15<>\"\",VLOOKUP($D15,[1]Database!$E$6:$BI$15000,L$9,0),\"\")","v":""},{"$f":"IF($J15<>\"\",VLOOKUP($J15,[1]Database!$B$6:$BI$15000,M$9,0),\"\")","v":""},{"$f":"IF($J15<>\"\",VLOOKUP($J15,[1]Database!$B$6:$BI$15000,N$9,0),\"\")","v":""},{"$f":"IF($J15<>\"\",M15+'[1]Calc Inputs'!$D$20,\"\")","v":""},{"$f":"IF($J15<>\"\",N15+'[1]Calc Inputs'!$D$24,\"\")","v":""},{"$f":"IF($J15<>\"\",VLOOKUP($J15,[1]Database!$B$6:$BI$15000,Q$9,0),\"\")","v":""},{"$f":"IF($J15<>\"\",VLOOKUP($J15,[1]Database!$B$6:$BI$15000,R$9,0),\"\")","v":""},{"$f":"IF($J15<>\"\",VLOOKUP($J15,[1]Database!$B$6:$BI$15000,S$9,0),\"\")","v":""},{"$f":"IF($J15<>\"\",VLOOKUP($D15,[1]Database!$E$6:$BI$15000,T$9,0),\"\")","v":""},null,"","","","","","","",{"$f":"UPPER(IF($J15<>\"\",\nVLOOKUP($J15,[1]Database!$B$6:$BI$15000,AC$4,0)&\"-\"&\nVLOOKUP($J15,[1]Database!$B$6:$BI$15000,AC$5,0)&\"-\"&\nVLOOKUP($J15,[1]Database!$B$6:$BI$15000,AC$6,0)&\"-\"&\nVLOOKUP($J15,[1]Database!$B$6:$BI$15000,AC$7,0)&\"-\"&\nVLOOKUP($J15,[1]Database!$B$6:$BI$15000,AC$8,0),\n\"\"))","v":""}]
[null,null,5,null,"",null,"","","","",null,{"$f":"IF($J16<>\"\",VLOOKUP($D16,[1]Database!$E$6:$BI$15000,L$9,0),\"\")","v":""},{"$f":"IF($J16<>\"\",VLOOKUP($J16,[1]Database!$B$6:$BI$15000,M$9,0),\"\")","v":""},{"$f":"IF($J16<>\"\",VLOOKUP($J16,[1]Database!$B$6:$BI$15000,N$9,0),\"\")","v":""},{"$f":"IF($J16<>\"\",M16+'[1]Calc Inputs'!$D$20,\"\")","v":""},{"$f":"IF($J16<>\"\",N16+'[1]Calc Inputs'!$D$24,\"\")","v":""},{"$f":"IF($J16<>\"\",VLOOKUP($J16,[1]Database!$B$6:$BI$15000,Q$9,0),\"\")","v":""},{"$f":"IF($J16<>\"\",VLOOKUP($J16,[1]Database!$B$6:$BI$15000,R$9,0),\"\")","v":""},{"$f":"IF($J16<>\"\",VLOOKUP($J16,[1]Database!$B$6:$BI$15000,S$9,0),\"\")","v":""},{"$f":"IF($J16<>\"\",VLOOKUP($D16,[1]Database!$E$6:$BI$15000,T$9,0),\"\")","v":""},null,"","","","","","","",{"$f":"UPPER(IF($J16<>\"\",\nVLOOKUP($J16,[1]Database!$B$6:$BI$15000,AC$4,0)&\"-\"&\nVLOOKUP($J16,[1]Database!$B$6:$BI$15000,AC$5,0)&\"-\"&\nVLOOKUP($J16,[1]Database!$B$6:$BI$15000,AC$6,0)&\"-\"&\nVLOOKUP($J16,[1]Database!$B$6:$BI$15000,AC$7,0)&\"-\"&\nVLOOKUP($J16,[1]Database!$B$6:$BI$15000,AC$8,0),\n\"\"))","v":""}]
[null,null,6,null,"",null,"","","","",null,{"$f":"IF($J17<>\"\",VLOOKUP($D17,[1]Database!$E$6:$BI$15000,L$9,0),\"\")","v":""},{"$f":"IF($J17<>\"\",VLOOKUP($J17,[1]Database!$B$6:$BI$15000,M$9,0),\"\")","v":""},{"$f":"IF($J17<>\"\",VLOOKUP($J17,[1]Database!$B$6:$BI$15000,N$9,0),\"\")","v":""},{"$f":"IF($J17<>\"\",M17+'[1]Calc Inputs'!$D$20,\"\")","v":""},{"$f":"IF($J17<>\"\",N17+'[1]Calc Inputs'!$D$24,\"\")","v":""},{"$f":"IF($J17<>\"\",VLOOKUP($J17,[1]Database!$B$6:$BI$15000,Q$9,0),\"\")","v":""},{"$f":"IF($J17<>\"\",VLOOKUP($J17,[1]Database!$B$6:$BI$15000,R$9,0),\"\")","v":""},{"$f":"IF($J17<>\"\",VLOOKUP($J17,[1]Database!$B$6:$BI$15000,S$9,0),\"\")","v":""},{"$f":"IF($J17<>\"\",VLOOKUP($D17,[1]Database!$E$6:$BI$15000,T$9,0),\"\")","v":""},null,"","","","","","","",{"$f":"UPPER(IF($J17<>\"\",\nVLOOKUP($J17,[1]Database!$B$6:$BI$15000,AC$4,0)&\"-\"&\nVLOOKUP($J17,[1]Database!$B$6:$BI$15000,AC$5,0)&\"-\"&\nVLOOKUP($J17,[1]Database!$B$6:$BI$15000,AC$6,0)&\"-\"&\nVLOOKUP($J17,[1]Database!$B$6:$BI$15000,AC$7,0)&\"-\"&\nVLOOKUP($J17,[1]Database!$B$6:$BI$15000,AC$8,0),\n\"\"))","v":""}]
[null,null,7,null,"",null,"","","","",null,{"$f":"IF($J18<>\"\",VLOOKUP($D18,[1]Database!$E$6:$BI$15000,L$9,0),\"\")","v":""},{"$f":"IF($J18<>\"\",VLOOKUP($J18,[1]Database!$B$6:$BI$15000,M$9,0),\"\")","v":""},{"$f":"IF($J18<>\"\",VLOOKUP($J18,[1]Database!$B$6:$BI$15000,N$9,0),\"\")","v":""},{"$f":"IF($J18<>\"\",M18+'[1]Calc Inputs'!$D$20,\"\")","v":""},{"$f":"IF($J18<>\"\",N18+'[1]Calc Inputs'!$D$24,\"\")","v":""},{"$f":"IF($J18<>\"\",VLOOKUP($J18,[1]Database!$B$6:$BI$15000,Q$9,0),\"\")","v":""},{"$f":"IF($J18<>\"\",VLOOKUP($J18,[1]Database!$B$6:$BI$15000,R$9,0),\"\")","v":""},{"$f":"IF($J18<>\"\",VLOOKUP($J18,[1]Database!$B$6:$BI$15000,S$9,0),\"\")","v":""},{"$f":"IF($J18<>\"\",VLOOKUP($D18,[1]Database!$E$6:$BI$15000,T$9,0),\"\")","v":""},null,"","","","","","","",{"$f":"UPPER(IF($J18<>\"\",\nVLOOKUP($J18,[1]Database!$B$6:$BI$15000,AC$4,0)&\"-\"&\nVLOOKUP($J18,[1]Database!$B$6:$BI$15000,AC$5,0)&\"-\"&\nVLOOKUP($J18,[1]Database!$B$6:$BI$15000,AC$6,0)&\"-\"&\nVLOOKUP($J18,[1]Database!$B$6:$BI$15000,AC$7,0)&\"-\"&\nVLOOKUP($J18,[1]Database!$B$6:$BI$15000,AC$8,0),\n\"\"))","v":""}]
[null,null,8,null,"",null,"","","","",null,{"$f":"IF($J19<>\"\",VLOOKUP($D19,[1]Database!$E$6:$BI$15000,L$9,0),\"\")","v":""},{"$f":"IF($J19<>\"\",VLOOKUP($J19,[1]Database!$B$6:$BI$15000,M$9,0),\"\")","v":""},{"$f":"IF($J19<>\"\",VLOOKUP($J19,[1]Database!$B$6:$BI$15000,N$9,0),\"\")","v":""},{"$f":"IF($J19<>\"\",M19+'[1]Calc Inputs'!$D$20,\"\")","v":""},{"$f":"IF($J19<>\"\",N19+'[1]Calc Inputs'!$D$24,\"\")","v":""},{"$f":"IF($J19<>\"\",VLOOKUP($J19,[1]Database!$B$6:$BI$15000,Q$9,0),\"\")","v":""},{"$f":"IF($J19<>\"\",VLOOKUP($J19,[1]Database!$B$6:$BI$15000,R$9,0),\"\")","v":""},{"$f":"IF($J19<>\"\",VLOOKUP($J19,[1]Database!$B$6:$BI$15000,S$9,0),\"\")","v":""},{"$f":"IF($J19<>\"\",VLOOKUP($D19,[1]Database!$E$6:$BI$15000,T$9,0),\"\")","v":""},null,"","","","","","","",{"$f":"UPPER(IF($J19<>\"\",\nVLOOKUP($J19,[1]Database!$B$6:$BI$15000,AC$4,0)&\"-\"&\nVLOOKUP($J19,[1]Database!$B$6:$BI$15000,AC$5,0)&\"-\"&\nVLOOKUP($J19,[1]Database!$B$6:$BI$15000,AC$6,0)&\"-\"&\nVLOOKUP($J19,[1]Database!$B$6:$BI$15000,AC$7,0)&\"-\"&\nVLOOKUP($J19,[1]Database!$B$6:$BI$15000,AC$8,0),\n\"\"))","v":""}]
[null,null,9,null,"",null,"","","","",null,{"$f":"IF($J20<>\"\",VLOOKUP($D20,[1]Database!$E$6:$BI$15000,L$9,0),\"\")","v":""},{"$f":"IF($J20<>\"\",VLOOKUP($J20,[1]Database!$B$6:$BI$15000,M$9,0),\"\")","v":""},{"$f":"IF($J20<>\"\",VLOOKUP($J20,[1]Database!$B$6:$BI$15000,N$9,0),\"\")","v":""},{"$f":"IF($J20<>\"\",M20+'[1]Calc Inputs'!$D$20,\"\")","v":""},{"$f":"IF($J20<>\"\",N20+'[1]Calc Inputs'!$D$24,\"\")","v":""},{"$f":"IF($J20<>\"\",VLOOKUP($J20,[1]Database!$B$6:$BI$15000,Q$9,0),\"\")","v":""},{"$f":"IF($J20<>\"\",VLOOKUP($J20,[1]Database!$B$6:$BI$15000,R$9,0),\"\")","v":""},{"$f":"IF($J20<>\"\",VLOOKUP($J20,[1]Database!$B$6:$BI$15000,S$9,0),\"\")","v":""},{"$f":"IF($J20<>\"\",VLOOKUP($D20,[1]Database!$E$6:$BI$15000,T$9,0),\"\")","v":""},null,"","","","","","","",{"$f":"UPPER(IF($J20<>\"\",\nVLOOKUP($J20,[1]Database!$B$6:$BI$15000,AC$4,0)&\"-\"&\nVLOOKUP($J20,[1]Database!$B$6:$BI$15000,AC$5,0)&\"-\"&\nVLOOKUP($J20,[1]Database!$B$6:$BI$15000,AC$6,0)&\"-\"&\nVLOOKUP($J20,[1]Database!$B$6:$BI$15000,AC$7,0)&\"-\"&\nVLOOKUP($J20,[1]Database!$B$6:$BI$15000,AC$8,0),\n\"\"))","v":""}]
[null,null,10,null,"",null,"","","","",null,{"$f":"IF($J21<>\"\",VLOOKUP($D21,[1]Database!$E$6:$BI$15000,L$9,0),\"\")","v":""},{"$f":"IF($J21<>\"\",VLOOKUP($J21,[1]Database!$B$6:$BI$15000,M$9,0),\"\")","v":""},{"$f":"IF($J21<>\"\",VLOOKUP($J21,[1]Database!$B$6:$BI$15000,N$9,0),\"\")","v":""},{"$f":"IF($J21<>\"\",M21+'[1]Calc Inputs'!$D$20,\"\")","v":""},{"$f":"IF($J21<>\"\",N21+'[1]Calc Inputs'!$D$24,\"\")","v":""},{"$f":"IF($J21<>\"\",VLOOKUP($J21,[1]Database!$B$6:$BI$15000,Q$9,0),\"\")","v":""},{"$f":"IF($J21<>\"\",VLOOKUP($J21,[1]Database!$B$6:$BI$15000,R$9,0),\"\")","v":""},{"$f":"IF($J21<>\"\",VLOOKUP($J21,[1]Database!$B$6:$BI$15000,S$9,0),\"\")","v":""},{"$f":"IF($J21<>\"\",VLOOKUP($D21,[1]Database!$E$6:$BI$15000,T$9,0),\"\")","v":""},null,"","","","","","","",{"$f":"UPPER(IF($J21<>\"\",\nVLOOKUP($J21,[1]Database!$B$6:$BI$15000,AC$4,0)&\"-\"&\nVLOOKUP($J21,[1]Database!$B$6:$BI$15000,AC$5,0)&\"-\"&\nVLOOKUP($J21,[1]Database!$B$6:$BI$15000,AC$6,0)&\"-\"&\nVLOOKUP($J21,[1]Database!$B$6:$BI$15000,AC$7,0)&\"-\"&\nVLOOKUP($J21,[1]Database!$B$6:$BI$15000,AC$8,0),\n\"\"))","v":""}]
[null,null,11,null,"",null,"","","","",null,{"$f":"IF($J22<>\"\",VLOOKUP($D22,[1]Database!$E$6:$BI$15000,L$9,0),\"\")","v":""},{"$f":"IF($J22<>\"\",VLOOKUP($J22,[1]Database!$B$6:$BI$15000,M$9,0),\"\")","v":""},{"$f":"IF($J22<>\"\",VLOOKUP($J22,[1]Database!$B$6:$BI$15000,N$9,0),\"\")","v":""},{"$f":"IF($J22<>\"\",M22+'[1]Calc Inputs'!$D$20,\"\")","v":""},{"$f":"IF($J22<>\"\",N22+'[1]Calc Inputs'!$D$24,\"\")","v":""},{"$f":"IF($J22<>\"\",VLOOKUP($J22,[1]Database!$B$6:$BI$15000,Q$9,0),\"\")","v":""},{"$f":"IF($J22<>\"\",VLOOKUP($J22,[1]Database!$B$6:$BI$15000,R$9,0),\"\")","v":""},{"$f":"IF($J22<>\"\",VLOOKUP($J22,[1]Database!$B$6:$BI$15000,S$9,0),\"\")","v":""},{"$f":"IF($J22<>\"\",VLOOKUP($D22,[1]Database!$E$6:$BI$15000,T$9,0),\"\")","v":""},null,"","","","","","","",{"$f":"UPPER(IF($J22<>\"\",\nVLOOKUP($J22,[1]Database!$B$6:$BI$15000,AC$4,0)&\"-\"&\nVLOOKUP($J22,[1]Database!$B$6:$BI$15000,AC$5,0)&\"-\"&\nVLOOKUP($J22,[1]Database!$B$6:$BI$15000,AC$6,0)&\"-\"&\nVLOOKUP($J22,[1]Database!$B$6:$BI$15000,AC$7,0)&\"-\"&\nVLOOKUP($J22,[1]Database!$B$6:$BI$15000,AC$8,0),\n\"\"))","v":""}]
[null,null,12,null,"",null,"","","","",null,{"$f":"IF($J23<>\"\",VLOOKUP($D23,[1]Database!$E$6:$BI$15000,L$9,0),\"\")","v":""},{"$f":"IF($J23<>\"\",VLOOKUP($J23,[1]Database!$B$6:$BI$15000,M$9,0),\"\")","v":""},{"$f":"IF($J23<>\"\",VLOOKUP($J23,[1]Database!$B$6:$BI$15000,N$9,0),\"\")","v":""},{"$f":"IF($J23<>\"\",M23+'[1]Calc Inputs'!$D$20,\"\")","v":""},{"$f":"IF($J23<>\"\",N23+'[1]Calc Inputs'!$D$24,\"\")","v":""},{"$f":"IF($J23<>\"\",VLOOKUP($J23,[1]Database!$B$6:$BI$15000,Q$9,0),\"\")","v":""},{"$f":"IF($J23<>\"\",VLOOKUP($J23,[1]Database!$B$6:$BI$15000,R$9,0),\"\")","v":""},{"$f":"IF($J23<>\"\",VLOOKUP($J23,[1]Database!$B$6:$BI$15000,S$9,0),\"\")","v":""},{"$f":"IF($J23<>\"\",VLOOKUP($D23,[1]Database!$E$6:$BI$15000,T$9,0),\"\")","v":""},null,"","","","","","","",{"$f":"UPPER(IF($J23<>\"\",\nVLOOKUP($J23,[1]Database!$B$6:$BI$15000,AC$4,0)&\"-\"&\nVLOOKUP($J23,[1]Database!$B$6:$BI$15000,AC$5,0)&\"-\"&\nVLOOKUP($J23,[1]Database!$B$6:$BI$15000,AC$6,0)&\"-\"&\nVLOOKUP($J23,[1]Database!$B$6:$BI$15000,AC$7,0)&\"-\"&\nVLOOKUP($J23,[1]Database!$B$6:$BI$15000,AC$8,0),\n\"\"))","v":""}]
[null,null,13,null,"",null,"","","","",null,{"$f":"IF($J24<>\"\",VLOOKUP($D24,[1]Database!$E$6:$BI$15000,L$9,0),\"\")","v":""},{"$f":"IF($J24<>\"\",VLOOKUP($J24,[1]Database!$B$6:$BI$15000,M$9,0),\"\")","v":""},{"$f":"IF($J24<>\"\",VLOOKUP($J24,[1]Database!$B$6:$BI$15000,N$9,0),\"\")","v":""},{"$f":"IF($J24<>\"\",M24+'[1]Calc Inputs'!$D$20,\"\")","v":""},{"$f":"IF($J24<>\"\",N24+'[1]Calc Inputs'!$D$24,\"\")","v":""},{"$f":"IF($J24<>\"\",VLOOKUP($J24,[1]Database!$B$6:$BI$15000,Q$9,0),\"\")","v":""},{"$f":"IF($J24<>\"\",VLOOKUP($J24,[1]Database!$B$6:$BI$15000,R$9,0),\"\")","v":""},{"$f":"IF($J24<>\"\",VLOOKUP($J24,[1]Database!$B$6:$BI$15000,S$9,0),\"\")","v":""},{"$f":"IF($J24<>\"\",VLOOKUP($D24,[1]Database!$E$6:$BI$15000,T$9,0),\"\")","v":""},null,"","","","","","","",{"$f":"UPPER(IF($J24<>\"\",\nVLOOKUP($J24,[1]Database!$B$6:$BI$15000,AC$4,0)&\"-\"&\nVLOOKUP($J24,[1]Database!$B$6:$BI$15000,AC$5,0)&\"-\"&\nVLOOKUP($J24,[1]Database!$B$6:$BI$15000,AC$6,0)&\"-\"&\nVLOOKUP($J24,[1]Database!$B$6:$BI$15000,AC$7,0)&\"-\"&\nVLOOKUP($J24,[1]Database!$B$6:$BI$15000,AC$8,0),\n\"\"))","v":""}]
[null,null,14,null,"",null,"","","","",null,{"$f":"IF($J25<>\"\",VLOOKUP($D25,[1]Database!$E$6:$BI$15000,L$9,0),\"\")","v":""},{"$f":"IF($J25<>\"\",VLOOKUP($J25,[1]Database!$B$6:$BI$15000,M$9,0),\"\")","v":""},{"$f":"IF($J25<>\"\",VLOOKUP($J25,[1]Database!$B$6:$BI$15000,N$9,0),\"\")","v":""},{"$f":"IF($J25<>\"\",M25+'[1]Calc Inputs'!$D$20,\"\")","v":""},{"$f":"IF($J25<>\"\",N25+'[1]Calc Inputs'!$D$24,\"\")","v":""},{"$f":"IF($J25<>\"\",VLOOKUP($J25,[1]Database!$B$6:$BI$15000,Q$9,0),\"\")","v":""},{"$f":"IF($J25<>\"\",VLOOKUP($J25,[1]Database!$B$6:$BI$15000,R$9,0),\"\")","v":""},{"$f":"IF($J25<>\"\",VLOOKUP($J25,[1]Database!$B$6:$BI$15000,S$9,0),\"\")","v":""},{"$f":"IF($J25<>\"\",VLOOKUP($D25,[1]Database!$E$6:$BI$15000,T$9,0),\"\")","v":""},null,"","","","","","","",{"$f":"UPPER(IF($J25<>\"\",\nVLOOKUP($J25,[1]Database!$B$6:$BI$15000,AC$4,0)&\"-\"&\nVLOOKUP($J25,[1]Database!$B$6:$BI$15000,AC$5,0)&\"-\"&\nVLOOKUP($J25,[1]Database!$B$6:$BI$15000,AC$6,0)&\"-\"&\nVLOOKUP($J25,[1]Database!$B$6:$BI$15000,AC$7,0)&\"-\"&\nVLOOKUP($J25,[1]Database!$B$6:$BI$15000,AC$8,0),\n\"\"))","v":""}]
[null,null,15,null,"",null,"","","","",null,{"$f":"IF($J26<>\"\",VLOOKUP($D26,[1]Database!$E$6:$BI$15000,L$9,0),\"\")","v":""},{"$f":"IF($J26<>\"\",VLOOKUP($J26,[1]Database!$B$6:$BI$15000,M$9,0),\"\")","v":""},{"$f":"IF($J26<>\"\",VLOOKUP($J26,[1]Database!$B$6:$BI$15000,N$9,0),\"\")","v":""},{"$f":"IF($J26<>\"\",M26+'[1]Calc Inputs'!$D$20,\"\")","v":""},{"$f":"IF($J26<>\"\",N26+'[1]Calc Inputs'!$D$24,\"\")","v":""},{"$f":"IF($J26<>\"\",VLOOKUP($J26,[1]Database!$B$6:$BI$15000,Q$9,0),\"\")","v":""},{"$f":"IF($J26<>\"\",VLOOKUP($J26,[1]Database!$B$6:$BI$15000,R$9,0),\"\")","v":""},{"$f":"IF($J26<>\"\",VLOOKUP($J26,[1]Database!$B$6:$BI$15000,S$9,0),\"\")","v":""},{"$f":"IF($J26<>\"\",VLOOKUP($D26,[1]Database!$E$6:$BI$15000,T$9,0),\"\")","v":""},null,"","","","","","","",{"$f":"UPPER(IF($J26<>\"\",\nVLOOKUP($J26,[1]Database!$B$6:$BI$15000,AC$4,0)&\"-\"&\nVLOOKUP($J26,[1]Database!$B$6:$BI$15000,AC$5,0)&\"-\"&\nVLOOKUP($J26,[1]Database!$B$6:$BI$15000,AC$6,0)&\"-\"&\nVLOOKUP($J26,[1]Database!$B$6:$BI$15000,AC$7,0)&\"-\"&\nVLOOKUP($J26,[1]Database!$B$6:$BI$15000,AC$8,0),\n\"\"))","v":""}]
[null,null,16,null,"",null,"","","","",null,{"$f":"IF($J27<>\"\",VLOOKUP($D27,[1]Database!$E$6:$BI$15000,L$9,0),\"\")","v":""},{"$f":"IF($J27<>\"\",VLOOKUP($J27,[1]Database!$B$6:$BI$15000,M$9,0),\"\")","v":""},{"$f":"IF($J27<>\"\",VLOOKUP($J27,[1]Database!$B$6:$BI$15000,N$9,0),\"\")","v":""},{"$f":"IF($J27<>\"\",M27+'[1]Calc Inputs'!$D$20,\"\")","v":""},{"$f":"IF($J27<>\"\",N27+'[1]Calc Inputs'!$D$24,\"\")","v":""},{"$f":"IF($J27<>\"\",VLOOKUP($J27,[1]Database!$B$6:$BI$15000,Q$9,0),\"\")","v":""},{"$f":"IF($J27<>\"\",VLOOKUP($J27,[1]Database!$B$6:$BI$15000,R$9,0),\"\")","v":""},{"$f":"IF($J27<>\"\",VLOOKUP($J27,[1]Database!$B$6:$BI$15000,S$9,0),\"\")","v":""},{"$f":"IF($J27<>\"\",VLOOKUP($D27,[1]Database!$E$6:$BI$15000,T$9,0),\"\")","v":""},null,"","","","","","","",{"$f":"UPPER(IF($J27<>\"\",\nVLOOKUP($J27,[1]Database!$B$6:$BI$15000,AC$4,0)&\"-\"&\nVLOOKUP($J27,[1]Database!$B$6:$BI$15000,AC$5,0)&\"-\"&\nVLOOKUP($J27,[1]Database!$B$6:$BI$15000,AC$6,0)&\"-\"&\nVLOOKUP($J27,[1]Database!$B$6:$BI$15000,AC$7,0)&\"-\"&\nVLOOKUP($J27,[1]Database!$B$6:$BI$15000,AC$8,0),\n\"\"))","v":""}]
[null,null,17,null,"",null,"","","","",null,{"$f":"IF($J28<>\"\",VLOOKUP($D28,[1]Database!$E$6:$BI$15000,L$9,0),\"\")","v":""},{"$f":"IF($J28<>\"\",VLOOKUP($J28,[1]Database!$B$6:$BI$15000,M$9,0),\"\")","v":""},{"$f":"IF($J28<>\"\",VLOOKUP($J28,[1]Database!$B$6:$BI$15000,N$9,0),\"\")","v":""},{"$f":"IF($J28<>\"\",M28+'[1]Calc Inputs'!$D$20,\"\")","v":""},{"$f":"IF($J28<>\"\",N28+'[1]Calc Inputs'!$D$24,\"\")","v":""},{"$f":"IF($J28<>\"\",VLOOKUP($J28,[1]Database!$B$6:$BI$15000,Q$9,0),\"\")","v":""},{"$f":"IF($J28<>\"\",VLOOKUP($J28,[1]Database!$B$6:$BI$15000,R$9,0),\"\")","v":""},{"$f":"IF($J28<>\"\",VLOOKUP($J28,[1]Database!$B$6:$BI$15000,S$9,0),\"\")","v":""},{"$f":"IF($J28<>\"\",VLOOKUP($D28,[1]Database!$E$6:$BI$15000,T$9,0),\"\")","v":""},null,"","","","","","","",{"$f":"UPPER(IF($J28<>\"\",\nVLOOKUP($J28,[1]Database!$B$6:$BI$15000,AC$4,0)&\"-\"&\nVLOOKUP($J28,[1]Database!$B$6:$BI$15000,AC$5,0)&\"-\"&\nVLOOKUP($J28,[1]Database!$B$6:$BI$15000,AC$6,0)&\"-\"&\nVLOOKUP($J28,[1]Database!$B$6:$BI$15000,AC$7,0)&\"-\"&\nVLOOKUP($J28,[1]Database!$B$6:$BI$15000,AC$8,0),\n\"\"))","v":""}]
[null,null,18,null,"",null,"","","","",null,{"$f":"IF($J29<>\"\",VLOOKUP($D29,[1]Database!$E$6:$BI$15000,L$9,0),\"\")","v":""},{"$f":"IF($J29<>\"\",VLOOKUP($J29,[1]Database!$B$6:$BI$15000,M$9,0),\"\")","v":""},{"$f":"IF($J29<>\"\",VLOOKUP($J29,[1]Database!$B$6:$BI$15000,N$9,0),\"\")","v":""},{"$f":"IF($J29<>\"\",M29+'[1]Calc Inputs'!$D$20,\"\")","v":""},{"$f":"IF($J29<>\"\",N29+'[1]Calc Inputs'!$D$24,\"\")","v":""},{"$f":"IF($J29<>\"\",VLOOKUP($J29,[1]Database!$B$6:$BI$15000,Q$9,0),\"\")","v":""},{"$f":"IF($J29<>\"\",VLOOKUP($J29,[1]Database!$B$6:$BI$15000,R$9,0),\"\")","v":""},{"$f":"IF($J29<>\"\",VLOOKUP($J29,[1]Database!$B$6:$BI$15000,S$9,0),\"\")","v":""},{"$f":"IF($J29<>\"\",VLOOKUP($D29,[1]Database!$E$6:$BI$15000,T$9,0),\"\")","v":""},null,"","","","","","","",{"$f":"UPPER(IF($J29<>\"\",\nVLOOKUP($J29,[1]Database!$B$6:$BI$15000,AC$4,0)&\"-\"&\nVLOOKUP($J29,[1]Database!$B$6:$BI$15000,AC$5,0)&\"-\"&\nVLOOKUP($J29,[1]Database!$B$6:$BI$15000,AC$6,0)&\"-\"&\nVLOOKUP($J29,[1]Database!$B$6:$BI$15000,AC$7,0)&\"-\"&\nVLOOKUP($J29,[1]Database!$B$6:$BI$15000,AC$8,0),\n\"\"))","v":""}]
[null,null,19,null,"",null,"","","","",null,{"$f":"IF($J30<>\"\",VLOOKUP($D30,[1]Database!$E$6:$BI$15000,L$9,0),\"\")","v":""},{"$f":"IF($J30<>\"\",VLOOKUP($J30,[1]Database!$B$6:$BI$15000,M$9,0),\"\")","v":""},{"$f":"IF($J30<>\"\",VLOOKUP($J30,[1]Database!$B$6:$BI$15000,N$9,0),\"\")","v":""},{"$f":"IF($J30<>\"\",M30+'[1]Calc Inputs'!$D$20,\"\")","v":""},{"$f":"IF($J30<>\"\",N30+'[1]Calc Inputs'!$D$24,\"\")","v":""},{"$f":"IF($J30<>\"\",VLOOKUP($J30,[1]Database!$B$6:$BI$15000,Q$9,0),\"\")","v":""},{"$f":"IF($J30<>\"\",VLOOKUP($J30,[1]Database!$B$6:$BI$15000,R$9,0),\"\")","v":""},{"$f":"IF($J30<>\"\",VLOOKUP($J30,[1]Database!$B$6:$BI$15000,S$9,0),\"\")","v":""},{"$f":"IF($J30<>\"\",VLOOKUP($D30,[1]Database!$E$6:$BI$15000,T$9,0),\"\")","v":""},null,"","","","","","","",{"$f":"UPPER(IF($J30<>\"\",\nVLOOKUP($J30,[1]Database!$B$6:$BI$15000,AC$4,0)&\"-\"&\nVLOOKUP($J30,[1]Database!$B$6:$BI$15000,AC$5,0)&\"-\"&\nVLOOKUP($J30,[1]Database!$B$6:$BI$15000,AC$6,0)&\"-\"&\nVLOOKUP($J30,[1]Database!$B$6:$BI$15000,AC$7,0)&\"-\"&\nVLOOKUP($J30,[1]Database!$B$6:$BI$15000,AC$8,0),\n\"\"))","v":""}]
[null,null,20,null,"",null,"","","","",null,{"$f":"IF($J31<>\"\",VLOOKUP($D31,[1]Database!$E$6:$BI$15000,L$9,0),\"\")","v":""},{"$f":"IF($J31<>\"\",VLOOKUP($J31,[1]Database!$B$6:$BI$15000,M$9,0),\"\")","v":""},{"$f":"IF($J31<>\"\",VLOOKUP($J31,[1]Database!$B$6:$BI$15000,N$9,0),\"\")","v":""},{"$f":"IF($J31<>\"\",M31+'[1]Calc Inputs'!$D$20,\"\")","v":""},{"$f":"IF($J31<>\"\",N31+'[1]Calc Inputs'!$D$24,\"\")","v":""},{"$f":"IF($J31<>\"\",VLOOKUP($J31,[1]Database!$B$6:$BI$15000,Q$9,0),\"\")","v":""},{"$f":"IF($J31<>\"\",VLOOKUP($J31,[1]Database!$B$6:$BI$15000,R$9,0),\"\")","v":""},{"$f":"IF($J31<>\"\",VLOOKUP($J31,[1]Database!$B$6:$BI$15000,S$9,0),\"\")","v":""},{"$f":"IF($J31<>\"\",VLOOKUP($D31,[1]Database!$E$6:$BI$15000,T$9,0),\"\")","v":""},null,"","","","","","","",{"$f":"UPPER(IF($J31<>\"\",\nVLOOKUP($J31,[1]Database!$B$6:$BI$15000,AC$4,0)&\"-\"&\nVLOOKUP($J31,[1]Database!$B$6:$BI$15000,AC$5,0)&\"-\"&\nVLOOKUP($J31,[1]Database!$B$6:$BI$15000,AC$6,0)&\"-\"&\nVLOOKUP($J31,[1]Database!$B$6:$BI$15000,AC$7,0)&\"-\"&\nVLOOKUP($J31,[1]Database!$B$6:$BI$15000,AC$8,0),\n\"\"))","v":""}]
[null,"Export File #2",21,null,"",null,"","","","",null,{"$f":"IF($J32<>\"\",VLOOKUP($D32,[1]Database!$E$6:$BI$15000,L$9,0),\"\")","v":""},{"$f":"IF($J32<>\"\",VLOOKUP($J32,[1]Database!$B$6:$BI$15000,M$9,0),\"\")","v":""},{"$f":"IF($J32<>\"\",VLOOKUP($J32,[1]Database!$B$6:$BI$15000,N$9,0),\"\")","v":""},{"$f":"IF($J32<>\"\",M32+'[1]Calc Inputs'!$D$20,\"\")","v":""},{"$f":"IF($J32<>\"\",N32+'[1]Calc Inputs'!$D$24,\"\")","v":""},{"$f":"IF($J32<>\"\",VLOOKUP($J32,[1]Database!$B$6:$BI$15000,Q$9,0),\"\")","v":""},{"$f":"IF($J32<>\"\",VLOOKUP($J32,[1]Database!$B$6:$BI$15000,R$9,0),\"\")","v":""},{"$f":"IF($J32<>\"\",VLOOKUP($J32,[1]Database!$B$6:$BI$15000,S$9,0),\"\")","v":""},{"$f":"IF($J32<>\"\",VLOOKUP($D32,[1]Database!$E$6:$BI$15000,T$9,0),\"\")","v":""},null,"","","","","","","",{"$f":"UPPER(IF($J32<>\"\",\nVLOOKUP($J32,[1]Database!$B$6:$BI$15000,AC$4,0)&\"-\"&\nVLOOKUP($J32,[1]Database!$B$6:$BI$15000,AC$5,0)&\"-\"&\nVLOOKUP($J32,[1]Database!$B$6:$BI$15000,AC$6,0)&\"-\"&\nVLOOKUP($J32,[1]Database!$B$6:$BI$15000,AC$7,0)&\"-\"&\nVLOOKUP($J32,[1]Database!$B$6:$BI$15000,AC$8,0),\n\"\"))","v":""}]
[null,null,22,null,"",null,"","","","",null,{"$f":"IF($J33<>\"\",VLOOKUP($D33,[1]Database!$E$6:$BI$15000,L$9,0),\"\")","v":""},{"$f":"IF($J33<>\"\",VLOOKUP($J33,[1]Database!$B$6:$BI$15000,M$9,0),\"\")","v":""},{"$f":"IF($J33<>\"\",VLOOKUP($J33,[1]Database!$B$6:$BI$15000,N$9,0),\"\")","v":""},{"$f":"IF($J33<>\"\",M33+'[1]Calc Inputs'!$D$20,\"\")","v":""},{"$f":"IF($J33<>\"\",N33+'[1]Calc Inputs'!$D$24,\"\")","v":""},{"$f":"IF($J33<>\"\",VLOOKUP($J33,[1]Database!$B$6:$BI$15000,Q$9,0),\"\")","v":""},{"$f":"IF($J33<>\"\",VLOOKUP($J33,[1]Database!$B$6:$BI$15000,R$9,0),\"\")","v":""},{"$f":"IF($J33<>\"\",VLOOKUP($J33,[1]Database!$B$6:$BI$15000,S$9,0),\"\")","v":""},{"$f":"IF($J33<>\"\",VLOOKUP($D33,[1]Database!$E$6:$BI$15000,T$9,0),\"\")","v":""},null,"","","","","","","",{"$f":"UPPER(IF($J33<>\"\",\nVLOOKUP($J33,[1]Database!$B$6:$BI$15000,AC$4,0)&\"-\"&\nVLOOKUP($J33,[1]Database!$B$6:$BI$15000,AC$5,0)&\"-\"&\nVLOOKUP($J33,[1]Database!$B$6:$BI$15000,AC$6,0)&\"-\"&\nVLOOKUP($J33,[1]Database!$B$6:$BI$15000,AC$7,0)&\"-\"&\nVLOOKUP($J33,[1]Database!$B$6:$BI$15000,AC$8,0),\n\"\"))","v":""}]
[null,null,23,null,"",null,"","","","",null,{"$f":"IF($J34<>\"\",VLOOKUP($D34,[1]Database!$E$6:$BI$15000,L$9,0),\"\")","v":""},{"$f":"IF($J34<>\"\",VLOOKUP($J34,[1]Database!$B$6:$BI$15000,M$9,0),\"\")","v":""},{"$f":"IF($J34<>\"\",VLOOKUP($J34,[1]Database!$B$6:$BI$15000,N$9,0),\"\")","v":""},{"$f":"IF($J34<>\"\",M34+'[1]Calc Inputs'!$D$20,\"\")","v":""},{"$f":"IF($J34<>\"\",N34+'[1]Calc Inputs'!$D$24,\"\")","v":""},{"$f":"IF($J34<>\"\",VLOOKUP($J34,[1]Database!$B$6:$BI$15000,Q$9,0),\"\")","v":""},{"$f":"IF($J34<>\"\",VLOOKUP($J34,[1]Database!$B$6:$BI$15000,R$9,0),\"\")","v":""},{"$f":"IF($J34<>\"\",VLOOKUP($J34,[1]Database!$B$6:$BI$15000,S$9,0),\"\")","v":""},{"$f":"IF($J34<>\"\",VLOOKUP($D34,[1]Database!$E$6:$BI$15000,T$9,0),\"\")","v":""},null,"","","","","","","",{"$f":"UPPER(IF($J34<>\"\",\nVLOOKUP($J34,[1]Database!$B$6:$BI$15000,AC$4,0)&\"-\"&\nVLOOKUP($J34,[1]Database!$B$6:$BI$15000,AC$5,0)&\"-\"&\nVLOOKUP($J34,[1]Database!$B$6:$BI$15000,AC$6,0)&\"-\"&\nVLOOKUP($J34,[1]Database!$B$6:$BI$15000,AC$7,0)&\"-\"&\nVLOOKUP($J34,[1]Database!$B$6:$BI$15000,AC$8,0),\n\"\"))","v":""}]
[null,null,24,null,"",null,"","","","",null,{"$f":"IF($J35<>\"\",VLOOKUP($D35,[1]Database!$E$6:$BI$15000,L$9,0),\"\")","v":""},{"$f":"IF($J35<>\"\",VLOOKUP($J35,[1]Database!$B$6:$BI$15000,M$9,0),\"\")","v":""},{"$f":"IF($J35<>\"\",VLOOKUP($J35,[1]Database!$B$6:$BI$15000,N$9,0),\"\")","v":""},{"$f":"IF($J35<>\"\",M35+'[1]Calc Inputs'!$D$20,\"\")","v":""},{"$f":"IF($J35<>\"\",N35+'[1]Calc Inputs'!$D$24,\"\")","v":""},{"$f":"IF($J35<>\"\",VLOOKUP($J35,[1]Database!$B$6:$BI$15000,Q$9,0),\"\")","v":""},{"$f":"IF($J35<>\"\",VLOOKUP($J35,[1]Database!$B$6:$BI$15000,R$9,0),\"\")","v":""},{"$f":"IF($J35<>\"\",VLOOKUP($J35,[1]Database!$B$6:$BI$15000,S$9,0),\"\")","v":""},{"$f":"IF($J35<>\"\",VLOOKUP($D35,[1]Database!$E$6:$BI$15000,T$9,0),\"\")","v":""},null,"","","","","","","",{"$f":"UPPER(IF($J35<>\"\",\nVLOOKUP($J35,[1]Database!$B$6:$BI$15000,AC$4,0)&\"-\"&\nVLOOKUP($J35,[1]Database!$B$6:$BI$15000,AC$5,0)&\"-\"&\nVLOOKUP($J35,[1]Database!$B$6:$BI$15000,AC$6,0)&\"-\"&\nVLOOKUP($J35,[1]Database!$B$6:$BI$15000,AC$7,0)&\"-\"&\nVLOOKUP($J35,[1]Database!$B$6:$BI$15000,AC$8,0),\n\"\"))","v":""}]
[null,null,25,null,"",null,"","","","",null,{"$f":"IF($J36<>\"\",VLOOKUP($D36,[1]Database!$E$6:$BI$15000,L$9,0),\"\")","v":""},{"$f":"IF($J36<>\"\",VLOOKUP($J36,[1]Database!$B$6:$BI$15000,M$9,0),\"\")","v":""},{"$f":"IF($J36<>\"\",VLOOKUP($J36,[1]Database!$B$6:$BI$15000,N$9,0),\"\")","v":""},{"$f":"IF($J36<>\"\",M36+'[1]Calc Inputs'!$D$20,\"\")","v":""},{"$f":"IF($J36<>\"\",N36+'[1]Calc Inputs'!$D$24,\"\")","v":""},{"$f":"IF($J36<>\"\",VLOOKUP($J36,[1]Database!$B$6:$BI$15000,Q$9,0),\"\")","v":""},{"$f":"IF($J36<>\"\",VLOOKUP($J36,[1]Database!$B$6:$BI$15000,R$9,0),\"\")","v":""},{"$f":"IF($J36<>\"\",VLOOKUP($J36,[1]Database!$B$6:$BI$15000,S$9,0),\"\")","v":""},{"$f":"IF($J36<>\"\",VLOOKUP($D36,[1]Database!$E$6:$BI$15000,T$9,0),\"\")","v":""},null,"","","","","","","",{"$f":"UPPER(IF($J36<>\"\",\nVLOOKUP($J36,[1]Database!$B$6:$BI$15000,AC$4,0)&\"-\"&\nVLOOKUP($J36,[1]Database!$B$6:$BI$15000,AC$5,0)&\"-\"&\nVLOOKUP($J36,[1]Database!$B$6:$BI$15000,AC$6,0)&\"-\"&\nVLOOKUP($J36,[1]Database!$B$6:$BI$15000,AC$7,0)&\"-\"&\nVLOOKUP($J36,[1]Database!$B$6:$BI$15000,AC$8,0),\n\"\"))","v":""}]
[null,null,26,null,"",null,"","","","",null,{"$f":"IF($J37<>\"\",VLOOKUP($D37,[1]Database!$E$6:$BI$15000,L$9,0),\"\")","v":""},{"$f":"IF($J37<>\"\",VLOOKUP($J37,[1]Database!$B$6:$BI$15000,M$9,0),\"\")","v":""},{"$f":"IF($J37<>\"\",VLOOKUP($J37,[1]Database!$B$6:$BI$15000,N$9,0),\"\")","v":""},{"$f":"IF($J37<>\"\",M37+'[1]Calc Inputs'!$D$20,\"\")","v":""},{"$f":"IF($J37<>\"\",N37+'[1]Calc Inputs'!$D$24,\"\")","v":""},{"$f":"IF($J37<>\"\",VLOOKUP($J37,[1]Database!$B$6:$BI$15000,Q$9,0),\"\")","v":""},{"$f":"IF($J37<>\"\",VLOOKUP($J37,[1]Database!$B$6:$BI$15000,R$9,0),\"\")","v":""},{"$f":"IF($J37<>\"\",VLOOKUP($J37,[1]Database!$B$6:$BI$15000,S$9,0),\"\")","v":""},{"$f":"IF($J37<>\"\",VLOOKUP($D37,[1]Database!$E$6:$BI$15000,T$9,0),\"\")","v":""},null,"","","","","","","",{"$f":"UPPER(IF($J37<>\"\",\nVLOOKUP($J37,[1]Database!$B$6:$BI$15000,AC$4,0)&\"-\"&\nVLOOKUP($J37,[1]Database!$B$6:$BI$15000,AC$5,0)&\"-\"&\nVLOOKUP($J37,[1]Database!$B$6:$BI$15000,AC$6,0)&\"-\"&\nVLOOKUP($J37,[1]Database!$B$6:$BI$15000,AC$7,0)&\"-\"&\nVLOOKUP($J37,[1]Database!$B$6:$BI$15000,AC$8,0),\n\"\"))","v":""}]
[null,null,27,null,"",null,"","","","",null,{"$f":"IF($J38<>\"\",VLOOKUP($D38,[1]Database!$E$6:$BI$15000,L$9,0),\"\")","v":""},{"$f":"IF($J38<>\"\",VLOOKUP($J38,[1]Database!$B$6:$BI$15000,M$9,0),\"\")","v":""},{"$f":"IF($J38<>\"\",VLOOKUP($J38,[1]Database!$B$6:$BI$15000,N$9,0),\"\")","v":""},{"$f":"IF($J38<>\"\",M38+'[1]Calc Inputs'!$D$20,\"\")","v":""},{"$f":"IF($J38<>\"\",N38+'[1]Calc Inputs'!$D$24,\"\")","v":""},{"$f":"IF($J38<>\"\",VLOOKUP($J38,[1]Database!$B$6:$BI$15000,Q$9,0),\"\")","v":""},{"$f":"IF($J38<>\"\",VLOOKUP($J38,[1]Database!$B$6:$BI$15000,R$9,0),\"\")","v":""},{"$f":"IF($J38<>\"\",VLOOKUP($J38,[1]Database!$B$6:$BI$15000,S$9,0),\"\")","v":""},{"$f":"IF($J38<>\"\",VLOOKUP($D38,[1]Database!$E$6:$BI$15000,T$9,0),\"\")","v":""},null,"","","","","","","",{"$f":"UPPER(IF($J38<>\"\",\nVLOOKUP($J38,[1]Database!$B$6:$BI$15000,AC$4,0)&\"-\"&\nVLOOKUP($J38,[1]Database!$B$6:$BI$15000,AC$5,0)&\"-\"&\nVLOOKUP($J38,[1]Database!$B$6:$BI$15000,AC$6,0)&\"-\"&\nVLOOKUP($J38,[1]Database!$B$6:$BI$15000,AC$7,0)&\"-\"&\nVLOOKUP($J38,[1]Database!$B$6:$BI$15000,AC$8,0),\n\"\"))","v":""}]
[null,null,28,null,"",null,"","","","",null,{"$f":"IF($J39<>\"\",VLOOKUP($D39,[1]Database!$E$6:$BI$15000,L$9,0),\"\")","v":""},{"$f":"IF($J39<>\"\",VLOOKUP($J39,[1]Database!$B$6:$BI$15000,M$9,0),\"\")","v":""},{"$f":"IF($J39<>\"\",VLOOKUP($J39,[1]Database!$B$6:$BI$15000,N$9,0),\"\")","v":""},{"$f":"IF($J39<>\"\",M39+'[1]Calc Inputs'!$D$20,\"\")","v":""},{"$f":"IF($J39<>\"\",N39+'[1]Calc Inputs'!$D$24,\"\")","v":""},{"$f":"IF($J39<>\"\",VLOOKUP($J39,[1]Database!$B$6:$BI$15000,Q$9,0),\"\")","v":""},{"$f":"IF($J39<>\"\",VLOOKUP($J39,[1]Database!$B$6:$BI$15000,R$9,0),\"\")","v":""},{"$f":"IF($J39<>\"\",VLOOKUP($J39,[1]Database!$B$6:$BI$15000,S$9,0),\"\")","v":""},{"$f":"IF($J39<>\"\",VLOOKUP($D39,[1]Database!$E$6:$BI$15000,T$9,0),\"\")","v":""},null,"","","","","","","",{"$f":"UPPER(IF($J39<>\"\",\nVLOOKUP($J39,[1]Database!$B$6:$BI$15000,AC$4,0)&\"-\"&\nVLOOKUP($J39,[1]Database!$B$6:$BI$15000,AC$5,0)&\"-\"&\nVLOOKUP($J39,[1]Database!$B$6:$BI$15000,AC$6,0)&\"-\"&\nVLOOKUP($J39,[1]Database!$B$6:$BI$15000,AC$7,0)&\"-\"&\nVLOOKUP($J39,[1]Database!$B$6:$BI$15000,AC$8,0),\n\"\"))","v":""}]
[null,null,29,null,"",null,"","","","",null,{"$f":"IF($J40<>\"\",VLOOKUP($D40,[1]Database!$E$6:$BI$15000,L$9,0),\"\")","v":""},{"$f":"IF($J40<>\"\",VLOOKUP($J40,[1]Database!$B$6:$BI$15000,M$9,0),\"\")","v":""},{"$f":"IF($J40<>\"\",VLOOKUP($J40,[1]Database!$B$6:$BI$15000,N$9,0),\"\")","v":""},{"$f":"IF($J40<>\"\",M40+'[1]Calc Inputs'!$D$20,\"\")","v":""},{"$f":"IF($J40<>\"\",N40+'[1]Calc Inputs'!$D$24,\"\")","v":""},{"$f":"IF($J40<>\"\",VLOOKUP($J40,[1]Database!$B$6:$BI$15000,Q$9,0),\"\")","v":""},{"$f":"IF($J40<>\"\",VLOOKUP($J40,[1]Database!$B$6:$BI$15000,R$9,0),\"\")","v":""},{"$f":"IF($J40<>\"\",VLOOKUP($J40,[1]Database!$B$6:$BI$15000,S$9,0),\"\")","v":""},{"$f":"IF($J40<>\"\",VLOOKUP($D40,[1]Database!$E$6:$BI$15000,T$9,0),\"\")","v":""},null,"","","","","","","",{"$f":"UPPER(IF($J40<>\"\",\nVLOOKUP($J40,[1]Database!$B$6:$BI$15000,AC$4,0)&\"-\"&\nVLOOKUP($J40,[1]Database!$B$6:$BI$15000,AC$5,0)&\"-\"&\nVLOOKUP($J40,[1]Database!$B$6:$BI$15000,AC$6,0)&\"-\"&\nVLOOKUP($J40,[1]Database!$B$6:$BI$15000,AC$7,0)&\"-\"&\nVLOOKUP($J40,[1]Database!$B$6:$BI$15000,AC$8,0),\n\"\"))","v":""}]
[null,null,30,null,"",null,"","","","",null,{"$f":"IF($J41<>\"\",VLOOKUP($D41,[1]Database!$E$6:$BI$15000,L$9,0),\"\")","v":""},{"$f":"IF($J41<>\"\",VLOOKUP($J41,[1]Database!$B$6:$BI$15000,M$9,0),\"\")","v":""},{"$f":"IF($J41<>\"\",VLOOKUP($J41,[1]Database!$B$6:$BI$15000,N$9,0),\"\")","v":""},{"$f":"IF($J41<>\"\",M41+'[1]Calc Inputs'!$D$20,\"\")","v":""},{"$f":"IF($J41<>\"\",N41+'[1]Calc Inputs'!$D$24,\"\")","v":""},{"$f":"IF($J41<>\"\",VLOOKUP($J41,[1]Database!$B$6:$BI$15000,Q$9,0),\"\")","v":""},{"$f":"IF($J41<>\"\",VLOOKUP($J41,[1]Database!$B$6:$BI$15000,R$9,0),\"\")","v":""},{"$f":"IF($J41<>\"\",VLOOKUP($J41,[1]Database!$B$6:$BI$15000,S$9,0),\"\")","v":""},{"$f":"IF($J41<>\"\",VLOOKUP($D41,[1]Database!$E$6:$BI$15000,T$9,0),\"\")","v":""},null,"","","","","","","",{"$f":"UPPER(IF($J41<>\"\",\nVLOOKUP($J41,[1]Database!$B$6:$BI$15000,AC$4,0)&\"-\"&\nVLOOKUP($J41,[1]Database!$B$6:$BI$15000,AC$5,0)&\"-\"&\nVLOOKUP($J41,[1]Database!$B$6:$BI$15000,AC$6,0)&\"-\"&\nVLOOKUP($J41,[1]Database!$B$6:$BI$15000,AC$7,0)&\"-\"&\nVLOOKUP($J41,[1]Database!$B$6:$BI$15000,AC$8,0),\n\"\"))","v":""}]
[null,null,31,null,"",null,"","","","",null,{"$f":"IF($J42<>\"\",VLOOKUP($D42,[1]Database!$E$6:$BI$15000,L$9,0),\"\")","v":""},{"$f":"IF($J42<>\"\",VLOOKUP($J42,[1]Database!$B$6:$BI$15000,M$9,0),\"\")","v":""},{"$f":"IF($J42<>\"\",VLOOKUP($J42,[1]Database!$B$6:$BI$15000,N$9,0),\"\")","v":""},{"$f":"IF($J42<>\"\",M42+'[1]Calc Inputs'!$D$20,\"\")","v":""},{"$f":"IF($J42<>\"\",N42+'[1]Calc Inputs'!$D$24,\"\")","v":""},{"$f":"IF($J42<>\"\",VLOOKUP($J42,[1]Database!$B$6:$BI$15000,Q$9,0),\"\")","v":""},{"$f":"IF($J42<>\"\",VLOOKUP($J42,[1]Database!$B$6:$BI$15000,R$9,0),\"\")","v":""},{"$f":"IF($J42<>\"\",VLOOKUP($J42,[1]Database!$B$6:$BI$15000,S$9,0),\"\")","v":""},{"$f":"IF($J42<>\"\",VLOOKUP($D42,[1]Database!$E$6:$BI$15000,T$9,0),\"\")","v":""},null,"","","","","","","",{"$f":"UPPER(IF($J42<>\"\",\nVLOOKUP($J42,[1]Database!$B$6:$BI$15000,AC$4,0)&\"-\"&\nVLOOKUP($J42,[1]Database!$B$6:$BI$15000,AC$5,0)&\"-\"&\nVLOOKUP($J42,[1]Database!$B$6:$BI$15000,AC$6,0)&\"-\"&\nVLOOKUP($J42,[1]Database!$B$6:$BI$15000,AC$7,0)&\"-\"&\nVLOOKUP($J42,[1]Database!$B$6:$BI$15000,AC$8,0),\n\"\"))","v":""}]
[null,null,32,null,"",null,"","","","",null,{"$f":"IF($J43<>\"\",VLOOKUP($D43,[1]Database!$E$6:$BI$15000,L$9,0),\"\")","v":""},{"$f":"IF($J43<>\"\",VLOOKUP($J43,[1]Database!$B$6:$BI$15000,M$9,0),\"\")","v":""},{"$f":"IF($J43<>\"\",VLOOKUP($J43,[1]Database!$B$6:$BI$15000,N$9,0),\"\")","v":""},{"$f":"IF($J43<>\"\",M43+'[1]Calc Inputs'!$D$20,\"\")","v":""},{"$f":"IF($J43<>\"\",N43+'[1]Calc Inputs'!$D$24,\"\")","v":""},{"$f":"IF($J43<>\"\",VLOOKUP($J43,[1]Database!$B$6:$BI$15000,Q$9,0),\"\")","v":""},{"$f":"IF($J43<>\"\",VLOOKUP($J43,[1]Database!$B$6:$BI$15000,R$9,0),\"\")","v":""},{"$f":"IF($J43<>\"\",VLOOKUP($J43,[1]Database!$B$6:$BI$15000,S$9,0),\"\")","v":""},{"$f":"IF($J43<>\"\",VLOOKUP($D43,[1]Database!$E$6:$BI$15000,T$9,0),\"\")","v":""},null,"","","","","","","",{"$f":"UPPER(IF($J43<>\"\",\nVLOOKUP($J43,[1]Database!$B$6:$BI$15000,AC$4,0)&\"-\"&\nVLOOKUP($J43,[1]Database!$B$6:$BI$15000,AC$5,0)&\"-\"&\nVLOOKUP($J43,[1]Database!$B$6:$BI$15000,AC$6,0)&\"-\"&\nVLOOKUP($J43,[1]Database!$B$6:$BI$15000,AC$7,0)&\"-\"&\nVLOOKUP($J43,[1]Database!$B$6:$BI$15000,AC$8,0),\n\"\"))","v":""}]
[null,null,33,null,{"$f":"IF(ISBLANK(D44),\"\",\"VB\")","v":""},null,{"$f":"IF(S44<>\"\",UPPER(S44),\"\")","v":""},{"$f":"M44","v":""},{"$f":"N44","v":""},{"$f":"IF(D44<>\"\",$D44&\"-\"&E44&F44,\"\")","v":""},null,{"$f":"IF($J44<>\"\",VLOOKUP($D44,[1]Database!$E$6:$BI$15000,L$9,0),\"\")","v":""},{"$f":"IF($J44<>\"\",VLOOKUP($J44,[1]Database!$B$6:$BI$15000,M$9,0),\"\")","v":""},{"$f":"IF($J44<>\"\",VLOOKUP($J44,[1]Database!$B$6:$BI$15000,N$9,0),\"\")","v":""},{"$f":"IF($J44<>\"\",M44+'[1]Calc Inputs'!$D$20,\"\")","v":""},{"$f":"IF($J44<>\"\",N44+'[1]Calc Inputs'!$D$24,\"\")","v":""},{"$f":"IF($J44<>\"\",VLOOKUP($J44,[1]Database!$B$6:$BI$15000,Q$9,0),\"\")","v":""},{"$f":"IF($J44<>\"\",VLOOKUP($J44,[1]Database!$B$6:$BI$15000,R$9,0),\"\")","v":""},{"$f":"IF($J44<>\"\",VLOOKUP($J44,[1]Database!$B$6:$BI$15000,S$9,0),\"\")","v":""},{"$f":"IF($J44<>\"\",VLOOKUP($D44,[1]Database!$E$6:$BI$15000,T$9,0),\"\")","v":""},null,"","","","","","","",{"$f":"UPPER(IF($J44<>\"\",\nVLOOKUP($J44,[1]Database!$B$6:$BI$15000,AC$4,0)&\"-\"&\nVLOOKUP($J44,[1]Database!$B$6:$BI$15000,AC$5,0)&\"-\"&\nVLOOKUP($J44,[1]Database!$B$6:$BI$15000,AC$6,0)&\"-\"&\nVLOOKUP($J44,[1]Database!$B$6:$BI$15000,AC$7,0)&\"-\"&\nVLOOKUP($J44,[1]Database!$B$6:$BI$15000,AC$8,0),\n\"\"))","v":""}]
[null,null,34,null,"",null,"","","","",null,{"$f":"IF($J45<>\"\",VLOOKUP($D45,[1]Database!$E$6:$BI$15000,L$9,0),\"\")","v":""},{"$f":"IF($J45<>\"\",VLOOKUP($J45,[1]Database!$B$6:$BI$15000,M$9,0),\"\")","v":""},{"$f":"IF($J45<>\"\",VLOOKUP($J45,[1]Database!$B$6:$BI$15000,N$9,0),\"\")","v":""},{"$f":"IF($J45<>\"\",M45+'[1]Calc Inputs'!$D$20,\"\")","v":""},{"$f":"IF($J45<>\"\",N45+'[1]Calc Inputs'!$D$24,\"\")","v":""},{"$f":"IF($J45<>\"\",VLOOKUP($J45,[1]Database!$B$6:$BI$15000,Q$9,0),\"\")","v":""},{"$f":"IF($J45<>\"\",VLOOKUP($J45,[1]Database!$B$6:$BI$15000,R$9,0),\"\")","v":""},{"$f":"IF($J45<>\"\",VLOOKUP($J45,[1]Database!$B$6:$BI$15000,S$9,0),\"\")","v":""},{"$f":"IF($J45<>\"\",VLOOKUP($D45,[1]Database!$E$6:$BI$15000,T$9,0),\"\")","v":""},null,"","","","","","","",{"$f":"UPPER(IF($J45<>\"\",\nVLOOKUP($J45,[1]Database!$B$6:$BI$15000,AC$4,0)&\"-\"&\nVLOOKUP($J45,[1]Database!$B$6:$BI$15000,AC$5,0)&\"-\"&\nVLOOKUP($J45,[1]Database!$B$6:$BI$15000,AC$6,0)&\"-\"&\nVLOOKUP($J45,[1]Database!$B$6:$BI$15000,AC$7,0)&\"-\"&\nVLOOKUP($J45,[1]Database!$B$6:$BI$15000,AC$8,0),\n\"\"))","v":""}]
[null,null,35,null,"",null,"","","","",null,{"$f":"IF($J46<>\"\",VLOOKUP($D46,[1]Database!$E$6:$BI$15000,L$9,0),\"\")","v":""},{"$f":"IF($J46<>\"\",VLOOKUP($J46,[1]Database!$B$6:$BI$15000,M$9,0),\"\")","v":""},{"$f":"IF($J46<>\"\",VLOOKUP($J46,[1]Database!$B$6:$BI$15000,N$9,0),\"\")","v":""},{"$f":"IF($J46<>\"\",M46+'[1]Calc Inputs'!$D$20,\"\")","v":""},{"$f":"IF($J46<>\"\",N46+'[1]Calc Inputs'!$D$24,\"\")","v":""},{"$f":"IF($J46<>\"\",VLOOKUP($J46,[1]Database!$B$6:$BI$15000,Q$9,0),\"\")","v":""},{"$f":"IF($J46<>\"\",VLOOKUP($J46,[1]Database!$B$6:$BI$15000,R$9,0),\"\")","v":""},{"$f":"IF($J46<>\"\",VLOOKUP($J46,[1]Database!$B$6:$BI$15000,S$9,0),\"\")","v":""},{"$f":"IF($J46<>\"\",VLOOKUP($D46,[1]Database!$E$6:$BI$15000,T$9,0),\"\")","v":""},null,"","","","","","","",{"$f":"UPPER(IF($J46<>\"\",\nVLOOKUP($J46,[1]Database!$B$6:$BI$15000,AC$4,0)&\"-\"&\nVLOOKUP($J46,[1]Database!$B$6:$BI$15000,AC$5,0)&\"-\"&\nVLOOKUP($J46,[1]Database!$B$6:$BI$15000,AC$6,0)&\"-\"&\nVLOOKUP($J46,[1]Database!$B$6:$BI$15000,AC$7,0)&\"-\"&\nVLOOKUP($J46,[1]Database!$B$6:$BI$15000,AC$8,0),\n\"\"))","v":""}]
[null,null,36,null,"",null,"","","","",null,{"$f":"IF($J47<>\"\",VLOOKUP($D47,[1]Database!$E$6:$BI$15000,L$9,0),\"\")","v":""},{"$f":"IF($J47<>\"\",VLOOKUP($J47,[1]Database!$B$6:$BI$15000,M$9,0),\"\")","v":""},{"$f":"IF($J47<>\"\",VLOOKUP($J47,[1]Database!$B$6:$BI$15000,N$9,0),\"\")","v":""},{"$f":"IF($J47<>\"\",M47+'[1]Calc Inputs'!$D$20,\"\")","v":""},{"$f":"IF($J47<>\"\",N47+'[1]Calc Inputs'!$D$24,\"\")","v":""},{"$f":"IF($J47<>\"\",VLOOKUP($J47,[1]Database!$B$6:$BI$15000,Q$9,0),\"\")","v":""},{"$f":"IF($J47<>\"\",VLOOKUP($J47,[1]Database!$B$6:$BI$15000,R$9,0),\"\")","v":""},{"$f":"IF($J47<>\"\",VLOOKUP($J47,[1]Database!$B$6:$BI$15000,S$9,0),\"\")","v":""},{"$f":"IF($J47<>\"\",VLOOKUP($D47,[1]Database!$E$6:$BI$15000,T$9,0),\"\")","v":""},null,"","","","","","","",{"$f":"UPPER(IF($J47<>\"\",\nVLOOKUP($J47,[1]Database!$B$6:$BI$15000,AC$4,0)&\"-\"&\nVLOOKUP($J47,[1]Database!$B$6:$BI$15000,AC$5,0)&\"-\"&\nVLOOKUP($J47,[1]Database!$B$6:$BI$15000,AC$6,0)&\"-\"&\nVLOOKUP($J47,[1]Database!$B$6:$BI$15000,AC$7,0)&\"-\"&\nVLOOKUP($J47,[1]Database!$B$6:$BI$15000,AC$8,0),\n\"\"))","v":""}]
[null,null,37,null,"",null,"","","","",null,{"$f":"IF($J48<>\"\",VLOOKUP($D48,[1]Database!$E$6:$BI$15000,L$9,0),\"\")","v":""},{"$f":"IF($J48<>\"\",VLOOKUP($J48,[1]Database!$B$6:$BI$15000,M$9,0),\"\")","v":""},{"$f":"IF($J48<>\"\",VLOOKUP($J48,[1]Database!$B$6:$BI$15000,N$9,0),\"\")","v":""},{"$f":"IF($J48<>\"\",M48+'[1]Calc Inputs'!$D$20,\"\")","v":""},{"$f":"IF($J48<>\"\",N48+'[1]Calc Inputs'!$D$24,\"\")","v":""},{"$f":"IF($J48<>\"\",VLOOKUP($J48,[1]Database!$B$6:$BI$15000,Q$9,0),\"\")","v":""},{"$f":"IF($J48<>\"\",VLOOKUP($J48,[1]Database!$B$6:$BI$15000,R$9,0),\"\")","v":""},{"$f":"IF($J48<>\"\",VLOOKUP($J48,[1]Database!$B$6:$BI$15000,S$9,0),\"\")","v":""},{"$f":"IF($J48<>\"\",VLOOKUP($D48,[1]Database!$E$6:$BI$15000,T$9,0),\"\")","v":""},null,"","","","","","","",{"$f":"UPPER(IF($J48<>\"\",\nVLOOKUP($J48,[1]Database!$B$6:$BI$15000,AC$4,0)&\"-\"&\nVLOOKUP($J48,[1]Database!$B$6:$BI$15000,AC$5,0)&\"-\"&\nVLOOKUP($J48,[1]Database!$B$6:$BI$15000,AC$6,0)&\"-\"&\nVLOOKUP($J48,[1]Database!$B$6:$BI$15000,AC$7,0)&\"-\"&\nVLOOKUP($J48,[1]Database!$B$6:$BI$15000,AC$8,0),\n\"\"))","v":""}]
[null,null,38,null,"",null,"","","","",null,{"$f":"IF($J49<>\"\",VLOOKUP($D49,[1]Database!$E$6:$BI$15000,L$9,0),\"\")","v":""},{"$f":"IF($J49<>\"\",VLOOKUP($J49,[1]Database!$B$6:$BI$15000,M$9,0),\"\")","v":""},{"$f":"IF($J49<>\"\",VLOOKUP($J49,[1]Database!$B$6:$BI$15000,N$9,0),\"\")","v":""},{"$f":"IF($J49<>\"\",M49+'[1]Calc Inputs'!$D$20,\"\")","v":""},{"$f":"IF($J49<>\"\",N49+'[1]Calc Inputs'!$D$24,\"\")","v":""},{"$f":"IF($J49<>\"\",VLOOKUP($J49,[1]Database!$B$6:$BI$15000,Q$9,0),\"\")","v":""},{"$f":"IF($J49<>\"\",VLOOKUP($J49,[1]Database!$B$6:$BI$15000,R$9,0),\"\")","v":""},{"$f":"IF($J49<>\"\",VLOOKUP($J49,[1]Database!$B$6:$BI$15000,S$9,0),\"\")","v":""},{"$f":"IF($J49<>\"\",VLOOKUP($D49,[1]Database!$E$6:$BI$15000,T$9,0),\"\")","v":""},null,"","","","","","","",{"$f":"UPPER(IF($J49<>\"\",\nVLOOKUP($J49,[1]Database!$B$6:$BI$15000,AC$4,0)&\"-\"&\nVLOOKUP($J49,[1]Database!$B$6:$BI$15000,AC$5,0)&\"-\"&\nVLOOKUP($J49,[1]Database!$B$6:$BI$15000,AC$6,0)&\"-\"&\nVLOOKUP($J49,[1]Database!$B$6:$BI$15000,AC$7,0)&\"-\"&\nVLOOKUP($J49,[1]Database!$B$6:$BI$15000,AC$8,0),\n\"\"))","v":""}]
[null,null,39,null,"",null,"","","","",null,{"$f":"IF($J50<>\"\",VLOOKUP($D50,[1]Database!$E$6:$BI$15000,L$9,0),\"\")","v":""},{"$f":"IF($J50<>\"\",VLOOKUP($J50,[1]Database!$B$6:$BI$15000,M$9,0),\"\")","v":""},{"$f":"IF($J50<>\"\",VLOOKUP($J50,[1]Database!$B$6:$BI$15000,N$9,0),\"\")","v":""},{"$f":"IF($J50<>\"\",M50+'[1]Calc Inputs'!$D$20,\"\")","v":""},{"$f":"IF($J50<>\"\",N50+'[1]Calc Inputs'!$D$24,\"\")","v":""},{"$f":"IF($J50<>\"\",VLOOKUP($J50,[1]Database!$B$6:$BI$15000,Q$9,0),\"\")","v":""},{"$f":"IF($J50<>\"\",VLOOKUP($J50,[1]Database!$B$6:$BI$15000,R$9,0),\"\")","v":""},{"$f":"IF($J50<>\"\",VLOOKUP($J50,[1]Database!$B$6:$BI$15000,S$9,0),\"\")","v":""},{"$f":"IF($J50<>\"\",VLOOKUP($D50,[1]Database!$E$6:$BI$15000,T$9,0),\"\")","v":""},null,"","","","","","","",{"$f":"UPPER(IF($J50<>\"\",\nVLOOKUP($J50,[1]Database!$B$6:$BI$15000,AC$4,0)&\"-\"&\nVLOOKUP($J50,[1]Database!$B$6:$BI$15000,AC$5,0)&\"-\"&\nVLOOKUP($J50,[1]Database!$B$6:$BI$15000,AC$6,0)&\"-\"&\nVLOOKUP($J50,[1]Database!$B$6:$BI$15000,AC$7,0)&\"-\"&\nVLOOKUP($J50,[1]Database!$B$6:$BI$15000,AC$8,0),\n\"\"))","v":""}]
[null,null,40,null,"",null,"","","","",null,{"$f":"IF($J51<>\"\",VLOOKUP($D51,[1]Database!$E$6:$BI$15000,L$9,0),\"\")","v":""},{"$f":"IF($J51<>\"\",VLOOKUP($J51,[1]Database!$B$6:$BI$15000,M$9,0),\"\")","v":""},{"$f":"IF($J51<>\"\",VLOOKUP($J51,[1]Database!$B$6:$BI$15000,N$9,0),\"\")","v":""},{"$f":"IF($J51<>\"\",M51+'[1]Calc Inputs'!$D$20,\"\")","v":""},{"$f":"IF($J51<>\"\",N51+'[1]Calc Inputs'!$D$24,\"\")","v":""},{"$f":"IF($J51<>\"\",VLOOKUP($J51,[1]Database!$B$6:$BI$15000,Q$9,0),\"\")","v":""},{"$f":"IF($J51<>\"\",VLOOKUP($J51,[1]Database!$B$6:$BI$15000,R$9,0),\"\")","v":""},{"$f":"IF($J51<>\"\",VLOOKUP($J51,[1]Database!$B$6:$BI$15000,S$9,0),\"\")","v":""},{"$f":"IF($J51<>\"\",VLOOKUP($D51,[1]Database!$E$6:$BI$15000,T$9,0),\"\")","v":""},null,"","","","","","","",{"$f":"UPPER(IF($J51<>\"\",\nVLOOKUP($J51,[1]Database!$B$6:$BI$15000,AC$4,0)&\"-\"&\nVLOOKUP($J51,[1]Database!$B$6:$BI$15000,AC$5,0)&\"-\"&\nVLOOKUP($J51,[1]Database!$B$6:$BI$15000,AC$6,0)&\"-\"&\nVLOOKUP($J51,[1]Database!$B$6:$BI$15000,AC$7,0)&\"-\"&\nVLOOKUP($J51,[1]Database!$B$6:$BI$15000,AC$8,0),\n\"\"))","v":""}]
[null,"Export File #3",41,null,"",null,"","","","",null,{"$f":"IF($J52<>\"\",VLOOKUP($D52,[1]Database!$E$6:$BI$15000,L$9,0),\"\")","v":""},{"$f":"IF($J52<>\"\",VLOOKUP($J52,[1]Database!$B$6:$BI$15000,M$9,0),\"\")","v":""},{"$f":"IF($J52<>\"\",VLOOKUP($J52,[1]Database!$B$6:$BI$15000,N$9,0),\"\")","v":""},{"$f":"IF($J52<>\"\",M52+'[1]Calc Inputs'!$D$20,\"\")","v":""},{"$f":"IF($J52<>\"\",N52+'[1]Calc Inputs'!$D$24,\"\")","v":""},{"$f":"IF($J52<>\"\",VLOOKUP($J52,[1]Database!$B$6:$BI$15000,Q$9,0),\"\")","v":""},{"$f":"IF($J52<>\"\",VLOOKUP($J52,[1]Database!$B$6:$BI$15000,R$9,0),\"\")","v":""},{"$f":"IF($J52<>\"\",VLOOKUP($J52,[1]Database!$B$6:$BI$15000,S$9,0),\"\")","v":""},{"$f":"IF($J52<>\"\",VLOOKUP($D52,[1]Database!$E$6:$BI$15000,T$9,0),\"\")","v":""},null,"","","","","","","",{"$f":"UPPER(IF($J52<>\"\",\nVLOOKUP($J52,[1]Database!$B$6:$BI$15000,AC$4,0)&\"-\"&\nVLOOKUP($J52,[1]Database!$B$6:$BI$15000,AC$5,0)&\"-\"&\nVLOOKUP($J52,[1]Database!$B$6:$BI$15000,AC$6,0)&\"-\"&\nVLOOKUP($J52,[1]Database!$B$6:$BI$15000,AC$7,0)&\"-\"&\nVLOOKUP($J52,[1]Database!$B$6:$BI$15000,AC$8,0),\n\"\"))","v":""}]
[null,null,42,null,"",null,"","","","",null,{"$f":"IF($J53<>\"\",VLOOKUP($D53,[1]Database!$E$6:$BI$15000,L$9,0),\"\")","v":""},{"$f":"IF($J53<>\"\",VLOOKUP($J53,[1]Database!$B$6:$BI$15000,M$9,0),\"\")","v":""},{"$f":"IF($J53<>\"\",VLOOKUP($J53,[1]Database!$B$6:$BI$15000,N$9,0),\"\")","v":""},{"$f":"IF($J53<>\"\",M53+'[1]Calc Inputs'!$D$20,\"\")","v":""},{"$f":"IF($J53<>\"\",N53+'[1]Calc Inputs'!$D$24,\"\")","v":""},{"$f":"IF($J53<>\"\",VLOOKUP($J53,[1]Database!$B$6:$BI$15000,Q$9,0),\"\")","v":""},{"$f":"IF($J53<>\"\",VLOOKUP($J53,[1]Database!$B$6:$BI$15000,R$9,0),\"\")","v":""},{"$f":"IF($J53<>\"\",VLOOKUP($J53,[1]Database!$B$6:$BI$15000,S$9,0),\"\")","v":""},{"$f":"IF($J53<>\"\",VLOOKUP($D53,[1]Database!$E$6:$BI$15000,T$9,0),\"\")","v":""},null,"","","","","","","",{"$f":"UPPER(IF($J53<>\"\",\nVLOOKUP($J53,[1]Database!$B$6:$BI$15000,AC$4,0)&\"-\"&\nVLOOKUP($J53,[1]Database!$B$6:$BI$15000,AC$5,0)&\"-\"&\nVLOOKUP($J53,[1]Database!$B$6:$BI$15000,AC$6,0)&\"-\"&\nVLOOKUP($J53,[1]Database!$B$6:$BI$15000,AC$7,0)&\"-\"&\nVLOOKUP($J53,[1]Database!$B$6:$BI$15000,AC$8,0),\n\"\"))","v":""}]
[null,null,43,null,"",null,"","","","",null,{"$f":"IF($J54<>\"\",VLOOKUP($D54,[1]Database!$E$6:$BI$15000,L$9,0),\"\")","v":""},{"$f":"IF($J54<>\"\",VLOOKUP($J54,[1]Database!$B$6:$BI$15000,M$9,0),\"\")","v":""},{"$f":"IF($J54<>\"\",VLOOKUP($J54,[1]Database!$B$6:$BI$15000,N$9,0),\"\")","v":""},{"$f":"IF($J54<>\"\",M54+'[1]Calc Inputs'!$D$20,\"\")","v":""},{"$f":"IF($J54<>\"\",N54+'[1]Calc Inputs'!$D$24,\"\")","v":""},{"$f":"IF($J54<>\"\",VLOOKUP($J54,[1]Database!$B$6:$BI$15000,Q$9,0),\"\")","v":""},{"$f":"IF($J54<>\"\",VLOOKUP($J54,[1]Database!$B$6:$BI$15000,R$9,0),\"\")","v":""},{"$f":"IF($J54<>\"\",VLOOKUP($J54,[1]Database!$B$6:$BI$15000,S$9,0),\"\")","v":""},{"$f":"IF($J54<>\"\",VLOOKUP($D54,[1]Database!$E$6:$BI$15000,T$9,0),\"\")","v":""},null,"","","","","","","",{"$f":"UPPER(IF($J54<>\"\",\nVLOOKUP($J54,[1]Database!$B$6:$BI$15000,AC$4,0)&\"-\"&\nVLOOKUP($J54,[1]Database!$B$6:$BI$15000,AC$5,0)&\"-\"&\nVLOOKUP($J54,[1]Database!$B$6:$BI$15000,AC$6,0)&\"-\"&\nVLOOKUP($J54,[1]Database!$B$6:$BI$15000,AC$7,0)&\"-\"&\nVLOOKUP($J54,[1]Database!$B$6:$BI$15000,AC$8,0),\n\"\"))","v":""}]
[null,null,44,null,"",null,"","","","",null,{"$f":"IF($J55<>\"\",VLOOKUP($D55,[1]Database!$E$6:$BI$15000,L$9,0),\"\")","v":""},{"$f":"IF($J55<>\"\",VLOOKUP($J55,[1]Database!$B$6:$BI$15000,M$9,0),\"\")","v":""},{"$f":"IF($J55<>\"\",VLOOKUP($J55,[1]Database!$B$6:$BI$15000,N$9,0),\"\")","v":""},{"$f":"IF($J55<>\"\",M55+'[1]Calc Inputs'!$D$20,\"\")","v":""},{"$f":"IF($J55<>\"\",N55+'[1]Calc Inputs'!$D$24,\"\")","v":""},{"$f":"IF($J55<>\"\",VLOOKUP($J55,[1]Database!$B$6:$BI$15000,Q$9,0),\"\")","v":""},{"$f":"IF($J55<>\"\",VLOOKUP($J55,[1]Database!$B$6:$BI$15000,R$9,0),\"\")","v":""},{"$f":"IF($J55<>\"\",VLOOKUP($J55,[1]Database!$B$6:$BI$15000,S$9,0),\"\")","v":""},{"$f":"IF($J55<>\"\",VLOOKUP($D55,[1]Database!$E$6:$BI$15000,T$9,0),\"\")","v":""},null,"","","","","","","",{"$f":"UPPER(IF($J55<>\"\",\nVLOOKUP($J55,[1]Database!$B$6:$BI$15000,AC$4,0)&\"-\"&\nVLOOKUP($J55,[1]Database!$B$6:$BI$15000,AC$5,0)&\"-\"&\nVLOOKUP($J55,[1]Database!$B$6:$BI$15000,AC$6,0)&\"-\"&\nVLOOKUP($J55,[1]Database!$B$6:$BI$15000,AC$7,0)&\"-\"&\nVLOOKUP($J55,[1]Database!$B$6:$BI$15000,AC$8,0),\n\"\"))","v":""}]
[null,null,45,null,"",null,"","","","",null,{"$f":"IF($J56<>\"\",VLOOKUP($D56,[1]Database!$E$6:$BI$15000,L$9,0),\"\")","v":""},{"$f":"IF($J56<>\"\",VLOOKUP($J56,[1]Database!$B$6:$BI$15000,M$9,0),\"\")","v":""},{"$f":"IF($J56<>\"\",VLOOKUP($J56,[1]Database!$B$6:$BI$15000,N$9,0),\"\")","v":""},{"$f":"IF($J56<>\"\",M56+'[1]Calc Inputs'!$D$20,\"\")","v":""},{"$f":"IF($J56<>\"\",N56+'[1]Calc Inputs'!$D$24,\"\")","v":""},{"$f":"IF($J56<>\"\",VLOOKUP($J56,[1]Database!$B$6:$BI$15000,Q$9,0),\"\")","v":""},{"$f":"IF($J56<>\"\",VLOOKUP($J56,[1]Database!$B$6:$BI$15000,R$9,0),\"\")","v":""},{"$f":"IF($J56<>\"\",VLOOKUP($J56,[1]Database!$B$6:$BI$15000,S$9,0),\"\")","v":""},{"$f":"IF($J56<>\"\",VLOOKUP($D56,[1]Database!$E$6:$BI$15000,T$9,0),\"\")","v":""},null,"","","","","","","",{"$f":"UPPER(IF($J56<>\"\",\nVLOOKUP($J56,[1]Database!$B$6:$BI$15000,AC$4,0)&\"-\"&\nVLOOKUP($J56,[1]Database!$B$6:$BI$15000,AC$5,0)&\"-\"&\nVLOOKUP($J56,[1]Database!$B$6:$BI$15000,AC$6,0)&\"-\"&\nVLOOKUP($J56,[1]Database!$B$6:$BI$15000,AC$7,0)&\"-\"&\nVLOOKUP($J56,[1]Database!$B$6:$BI$15000,AC$8,0),\n\"\"))","v":""}]
[null,null,46,null,"",null,"","","","",null,{"$f":"IF($J57<>\"\",VLOOKUP($D57,[1]Database!$E$6:$BI$15000,L$9,0),\"\")","v":""},{"$f":"IF($J57<>\"\",VLOOKUP($J57,[1]Database!$B$6:$BI$15000,M$9,0),\"\")","v":""},{"$f":"IF($J57<>\"\",VLOOKUP($J57,[1]Database!$B$6:$BI$15000,N$9,0),\"\")","v":""},{"$f":"IF($J57<>\"\",M57+'[1]Calc Inputs'!$D$20,\"\")","v":""},{"$f":"IF($J57<>\"\",N57+'[1]Calc Inputs'!$D$24,\"\")","v":""},{"$f":"IF($J57<>\"\",VLOOKUP($J57,[1]Database!$B$6:$BI$15000,Q$9,0),\"\")","v":""},{"$f":"IF($J57<>\"\",VLOOKUP($J57,[1]Database!$B$6:$BI$15000,R$9,0),\"\")","v":""},{"$f":"IF($J57<>\"\",VLOOKUP($J57,[1]Database!$B$6:$BI$15000,S$9,0),\"\")","v":""},{"$f":"IF($J57<>\"\",VLOOKUP($D57,[1]Database!$E$6:$BI$15000,T$9,0),\"\")","v":""},null,"","","","","","","",{"$f":"UPPER(IF($J57<>\"\",\nVLOOKUP($J57,[1]Database!$B$6:$BI$15000,AC$4,0)&\"-\"&\nVLOOKUP($J57,[1]Database!$B$6:$BI$15000,AC$5,0)&\"-\"&\nVLOOKUP($J57,[1]Database!$B$6:$BI$15000,AC$6,0)&\"-\"&\nVLOOKUP($J57,[1]Database!$B$6:$BI$15000,AC$7,0)&\"-\"&\nVLOOKUP($J57,[1]Database!$B$6:$BI$15000,AC$8,0),\n\"\"))","v":""}]
[null,null,47,null,"",null,"","","","",null,{"$f":"IF($J58<>\"\",VLOOKUP($D58,[1]Database!$E$6:$BI$15000,L$9,0),\"\")","v":""},{"$f":"IF($J58<>\"\",VLOOKUP($J58,[1]Database!$B$6:$BI$15000,M$9,0),\"\")","v":""},{"$f":"IF($J58<>\"\",VLOOKUP($J58,[1]Database!$B$6:$BI$15000,N$9,0),\"\")","v":""},{"$f":"IF($J58<>\"\",M58+'[1]Calc Inputs'!$D$20,\"\")","v":""},{"$f":"IF($J58<>\"\",N58+'[1]Calc Inputs'!$D$24,\"\")","v":""},{"$f":"IF($J58<>\"\",VLOOKUP($J58,[1]Database!$B$6:$BI$15000,Q$9,0),\"\")","v":""},{"$f":"IF($J58<>\"\",VLOOKUP($J58,[1]Database!$B$6:$BI$15000,R$9,0),\"\")","v":""},{"$f":"IF($J58<>\"\",VLOOKUP($J58,[1]Database!$B$6:$BI$15000,S$9,0),\"\")","v":""},{"$f":"IF($J58<>\"\",VLOOKUP($D58,[1]Database!$E$6:$BI$15000,T$9,0),\"\")","v":""},null,"","","","","","","",{"$f":"UPPER(IF($J58<>\"\",\nVLOOKUP($J58,[1]Database!$B$6:$BI$15000,AC$4,0)&\"-\"&\nVLOOKUP($J58,[1]Database!$B$6:$BI$15000,AC$5,0)&\"-\"&\nVLOOKUP($J58,[1]Database!$B$6:$BI$15000,AC$6,0)&\"-\"&\nVLOOKUP($J58,[1]Database!$B$6:$BI$15000,AC$7,0)&\"-\"&\nVLOOKUP($J58,[1]Database!$B$6:$BI$15000,AC$8,0),\n\"\"))","v":""}]
[null,null,48,null,"",null,"","","","",null,{"$f":"IF($J59<>\"\",VLOOKUP($D59,[1]Database!$E$6:$BI$15000,L$9,0),\"\")","v":""},{"$f":"IF($J59<>\"\",VLOOKUP($J59,[1]Database!$B$6:$BI$15000,M$9,0),\"\")","v":""},{"$f":"IF($J59<>\"\",VLOOKUP($J59,[1]Database!$B$6:$BI$15000,N$9,0),\"\")","v":""},{"$f":"IF($J59<>\"\",M59+'[1]Calc Inputs'!$D$20,\"\")","v":""},{"$f":"IF($J59<>\"\",N59+'[1]Calc Inputs'!$D$24,\"\")","v":""},{"$f":"IF($J59<>\"\",VLOOKUP($J59,[1]Database!$B$6:$BI$15000,Q$9,0),\"\")","v":""},{"$f":"IF($J59<>\"\",VLOOKUP($J59,[1]Database!$B$6:$BI$15000,R$9,0),\"\")","v":""},{"$f":"IF($J59<>\"\",VLOOKUP($J59,[1]Database!$B$6:$BI$15000,S$9,0),\"\")","v":""},{"$f":"IF($J59<>\"\",VLOOKUP($D59,[1]Database!$E$6:$BI$15000,T$9,0),\"\")","v":""},null,"","","","","","","",{"$f":"UPPER(IF($J59<>\"\",\nVLOOKUP($J59,[1]Database!$B$6:$BI$15000,AC$4,0)&\"-\"&\nVLOOKUP($J59,[1]Database!$B$6:$BI$15000,AC$5,0)&\"-\"&\nVLOOKUP($J59,[1]Database!$B$6:$BI$15000,AC$6,0)&\"-\"&\nVLOOKUP($J59,[1]Database!$B$6:$BI$15000,AC$7,0)&\"-\"&\nVLOOKUP($J59,[1]Database!$B$6:$BI$15000,AC$8,0),\n\"\"))","v":""}]
[null,null,49,null,"",null,"","","","",null,{"$f":"IF($J60<>\"\",VLOOKUP($D60,[1]Database!$E$6:$BI$15000,L$9,0),\"\")","v":""},{"$f":"IF($J60<>\"\",VLOOKUP($J60,[1]Database!$B$6:$BI$15000,M$9,0),\"\")","v":""},{"$f":"IF($J60<>\"\",VLOOKUP($J60,[1]Database!$B$6:$BI$15000,N$9,0),\"\")","v":""},{"$f":"IF($J60<>\"\",M60+'[1]Calc Inputs'!$D$20,\"\")","v":""},{"$f":"IF($J60<>\"\",N60+'[1]Calc Inputs'!$D$24,\"\")","v":""},{"$f":"IF($J60<>\"\",VLOOKUP($J60,[1]Database!$B$6:$BI$15000,Q$9,0),\"\")","v":""},{"$f":"IF($J60<>\"\",VLOOKUP($J60,[1]Database!$B$6:$BI$15000,R$9,0),\"\")","v":""},{"$f":"IF($J60<>\"\",VLOOKUP($J60,[1]Database!$B$6:$BI$15000,S$9,0),\"\")","v":""},{"$f":"IF($J60<>\"\",VLOOKUP($D60,[1]Database!$E$6:$BI$15000,T$9,0),\"\")","v":""},null,"","","","","","","",{"$f":"UPPER(IF($J60<>\"\",\nVLOOKUP($J60,[1]Database!$B$6:$BI$15000,AC$4,0)&\"-\"&\nVLOOKUP($J60,[1]Database!$B$6:$BI$15000,AC$5,0)&\"-\"&\nVLOOKUP($J60,[1]Database!$B$6:$BI$15000,AC$6,0)&\"-\"&\nVLOOKUP($J60,[1]Database!$B$6:$BI$15000,AC$7,0)&\"-\"&\nVLOOKUP($J60,[1]Database!$B$6:$BI$15000,AC$8,0),\n\"\"))","v":""}]
[null,null,50,null,"",null,"","","","",null,{"$f":"IF($J61<>\"\",VLOOKUP($D61,[1]Database!$E$6:$BI$15000,L$9,0),\"\")","v":""},{"$f":"IF($J61<>\"\",VLOOKUP($J61,[1]Database!$B$6:$BI$15000,M$9,0),\"\")","v":""},{"$f":"IF($J61<>\"\",VLOOKUP($J61,[1]Database!$B$6:$BI$15000,N$9,0),\"\")","v":""},{"$f":"IF($J61<>\"\",M61+'[1]Calc Inputs'!$D$20,\"\")","v":""},{"$f":"IF($J61<>\"\",N61+'[1]Calc Inputs'!$D$24,\"\")","v":""},{"$f":"IF($J61<>\"\",VLOOKUP($J61,[1]Database!$B$6:$BI$15000,Q$9,0),\"\")","v":""},{"$f":"IF($J61<>\"\",VLOOKUP($J61,[1]Database!$B$6:$BI$15000,R$9,0),\"\")","v":""},{"$f":"IF($J61<>\"\",VLOOKUP($J61,[1]Database!$B$6:$BI$15000,S$9,0),\"\")","v":""},{"$f":"IF($J61<>\"\",VLOOKUP($D61,[1]Database!$E$6:$BI$15000,T$9,0),\"\")","v":""},null,"","","","","","","",{"$f":"UPPER(IF($J61<>\"\",\nVLOOKUP($J61,[1]Database!$B$6:$BI$15000,AC$4,0)&\"-\"&\nVLOOKUP($J61,[1]Database!$B$6:$BI$15000,AC$5,0)&\"-\"&\nVLOOKUP($J61,[1]Database!$B$6:$BI$15000,AC$6,0)&\"-\"&\nVLOOKUP($J61,[1]Database!$B$6:$BI$15000,AC$7,0)&\"-\"&\nVLOOKUP($J61,[1]Database!$B$6:$BI$15000,AC$8,0),\n\"\"))","v":""}]
[null,null,51,null,"",null,"","","","",null,{"$f":"IF($J62<>\"\",VLOOKUP($D62,[1]Database!$E$6:$BI$15000,L$9,0),\"\")","v":""},{"$f":"IF($J62<>\"\",VLOOKUP($J62,[1]Database!$B$6:$BI$15000,M$9,0),\"\")","v":""},{"$f":"IF($J62<>\"\",VLOOKUP($J62,[1]Database!$B$6:$BI$15000,N$9,0),\"\")","v":""},{"$f":"IF($J62<>\"\",M62+'[1]Calc Inputs'!$D$20,\"\")","v":""},{"$f":"IF($J62<>\"\",N62+'[1]Calc Inputs'!$D$24,\"\")","v":""},{"$f":"IF($J62<>\"\",VLOOKUP($J62,[1]Database!$B$6:$BI$15000,Q$9,0),\"\")","v":""},{"$f":"IF($J62<>\"\",VLOOKUP($J62,[1]Database!$B$6:$BI$15000,R$9,0),\"\")","v":""},{"$f":"IF($J62<>\"\",VLOOKUP($J62,[1]Database!$B$6:$BI$15000,S$9,0),\"\")","v":""},{"$f":"IF($J62<>\"\",VLOOKUP($D62,[1]Database!$E$6:$BI$15000,T$9,0),\"\")","v":""},null,"","","","","","","",{"$f":"UPPER(IF($J62<>\"\",\nVLOOKUP($J62,[1]Database!$B$6:$BI$15000,AC$4,0)&\"-\"&\nVLOOKUP($J62,[1]Database!$B$6:$BI$15000,AC$5,0)&\"-\"&\nVLOOKUP($J62,[1]Database!$B$6:$BI$15000,AC$6,0)&\"-\"&\nVLOOKUP($J62,[1]Database!$B$6:$BI$15000,AC$7,0)&\"-\"&\nVLOOKUP($J62,[1]Database!$B$6:$BI$15000,AC$8,0),\n\"\"))","v":""}]
[null,null,52,null,"",null,"","","","",null,{"$f":"IF($J63<>\"\",VLOOKUP($D63,[1]Database!$E$6:$BI$15000,L$9,0),\"\")","v":""},{"$f":"IF($J63<>\"\",VLOOKUP($J63,[1]Database!$B$6:$BI$15000,M$9,0),\"\")","v":""},{"$f":"IF($J63<>\"\",VLOOKUP($J63,[1]Database!$B$6:$BI$15000,N$9,0),\"\")","v":""},{"$f":"IF($J63<>\"\",M63+'[1]Calc Inputs'!$D$20,\"\")","v":""},{"$f":"IF($J63<>\"\",N63+'[1]Calc Inputs'!$D$24,\"\")","v":""},{"$f":"IF($J63<>\"\",VLOOKUP($J63,[1]Database!$B$6:$BI$15000,Q$9,0),\"\")","v":""},{"$f":"IF($J63<>\"\",VLOOKUP($J63,[1]Database!$B$6:$BI$15000,R$9,0),\"\")","v":""},{"$f":"IF($J63<>\"\",VLOOKUP($J63,[1]Database!$B$6:$BI$15000,S$9,0),\"\")","v":""},{"$f":"IF($J63<>\"\",VLOOKUP($D63,[1]Database!$E$6:$BI$15000,T$9,0),\"\")","v":""},null,"","","","","","","",{"$f":"UPPER(IF($J63<>\"\",\nVLOOKUP($J63,[1]Database!$B$6:$BI$15000,AC$4,0)&\"-\"&\nVLOOKUP($J63,[1]Database!$B$6:$BI$15000,AC$5,0)&\"-\"&\nVLOOKUP($J63,[1]Database!$B$6:$BI$15000,AC$6,0)&\"-\"&\nVLOOKUP($J63,[1]Database!$B$6:$BI$15000,AC$7,0)&\"-\"&\nVLOOKUP($J63,[1]Database!$B$6:$BI$15000,AC$8,0),\n\"\"))","v":""}]
[null,null,53,null,"",null,"","","","",null,{"$f":"IF($J64<>\"\",VLOOKUP($D64,[1]Database!$E$6:$BI$15000,L$9,0),\"\")","v":""},{"$f":"IF($J64<>\"\",VLOOKUP($J64,[1]Database!$B$6:$BI$15000,M$9,0),\"\")","v":""},{"$f":"IF($J64<>\"\",VLOOKUP($J64,[1]Database!$B$6:$BI$15000,N$9,0),\"\")","v":""},{"$f":"IF($J64<>\"\",M64+'[1]Calc Inputs'!$D$20,\"\")","v":""},{"$f":"IF($J64<>\"\",N64+'[1]Calc Inputs'!$D$24,\"\")","v":""},{"$f":"IF($J64<>\"\",VLOOKUP($J64,[1]Database!$B$6:$BI$15000,Q$9,0),\"\")","v":""},{"$f":"IF($J64<>\"\",VLOOKUP($J64,[1]Database!$B$6:$BI$15000,R$9,0),\"\")","v":""},{"$f":"IF($J64<>\"\",VLOOKUP($J64,[1]Database!$B$6:$BI$15000,S$9,0),\"\")","v":""},{"$f":"IF($J64<>\"\",VLOOKUP($D64,[1]Database!$E$6:$BI$15000,T$9,0),\"\")","v":""},null,"","","","","","","",{"$f":"UPPER(IF($J64<>\"\",\nVLOOKUP($J64,[1]Database!$B$6:$BI$15000,AC$4,0)&\"-\"&\nVLOOKUP($J64,[1]Database!$B$6:$BI$15000,AC$5,0)&\"-\"&\nVLOOKUP($J64,[1]Database!$B$6:$BI$15000,AC$6,0)&\"-\"&\nVLOOKUP($J64,[1]Database!$B$6:$BI$15000,AC$7,0)&\"-\"&\nVLOOKUP($J64,[1]Database!$B$6:$BI$15000,AC$8,0),\n\"\"))","v":""}]
[null,null,54,null,"",null,"","","","",null,{"$f":"IF($J65<>\"\",VLOOKUP($D65,[1]Database!$E$6:$BI$15000,L$9,0),\"\")","v":""},{"$f":"IF($J65<>\"\",VLOOKUP($J65,[1]Database!$B$6:$BI$15000,M$9,0),\"\")","v":""},{"$f":"IF($J65<>\"\",VLOOKUP($J65,[1]Database!$B$6:$BI$15000,N$9,0),\"\")","v":""},{"$f":"IF($J65<>\"\",M65+'[1]Calc Inputs'!$D$20,\"\")","v":""},{"$f":"IF($J65<>\"\",N65+'[1]Calc Inputs'!$D$24,\"\")","v":""},{"$f":"IF($J65<>\"\",VLOOKUP($J65,[1]Database!$B$6:$BI$15000,Q$9,0),\"\")","v":""},{"$f":"IF($J65<>\"\",VLOOKUP($J65,[1]Database!$B$6:$BI$15000,R$9,0),\"\")","v":""},{"$f":"IF($J65<>\"\",VLOOKUP($J65,[1]Database!$B$6:$BI$15000,S$9,0),\"\")","v":""},{"$f":"IF($J65<>\"\",VLOOKUP($D65,[1]Database!$E$6:$BI$15000,T$9,0),\"\")","v":""},null,"","","","","","","",{"$f":"UPPER(IF($J65<>\"\",\nVLOOKUP($J65,[1]Database!$B$6:$BI$15000,AC$4,0)&\"-\"&\nVLOOKUP($J65,[1]Database!$B$6:$BI$15000,AC$5,0)&\"-\"&\nVLOOKUP($J65,[1]Database!$B$6:$BI$15000,AC$6,0)&\"-\"&\nVLOOKUP($J65,[1]Database!$B$6:$BI$15000,AC$7,0)&\"-\"&\nVLOOKUP($J65,[1]Database!$B$6:$BI$15000,AC$8,0),\n\"\"))","v":""}]
[null,null,55,null,"",null,"","","","",null,{"$f":"IF($J66<>\"\",VLOOKUP($D66,[1]Database!$E$6:$BI$15000,L$9,0),\"\")","v":""},{"$f":"IF($J66<>\"\",VLOOKUP($J66,[1]Database!$B$6:$BI$15000,M$9,0),\"\")","v":""},{"$f":"IF($J66<>\"\",VLOOKUP($J66,[1]Database!$B$6:$BI$15000,N$9,0),\"\")","v":""},{"$f":"IF($J66<>\"\",M66+'[1]Calc Inputs'!$D$20,\"\")","v":""},{"$f":"IF($J66<>\"\",N66+'[1]Calc Inputs'!$D$24,\"\")","v":""},{"$f":"IF($J66<>\"\",VLOOKUP($J66,[1]Database!$B$6:$BI$15000,Q$9,0),\"\")","v":""},{"$f":"IF($J66<>\"\",VLOOKUP($J66,[1]Database!$B$6:$BI$15000,R$9,0),\"\")","v":""},{"$f":"IF($J66<>\"\",VLOOKUP($J66,[1]Database!$B$6:$BI$15000,S$9,0),\"\")","v":""},{"$f":"IF($J66<>\"\",VLOOKUP($D66,[1]Database!$E$6:$BI$15000,T$9,0),\"\")","v":""},null,"","","","","","","",{"$f":"UPPER(IF($J66<>\"\",\nVLOOKUP($J66,[1]Database!$B$6:$BI$15000,AC$4,0)&\"-\"&\nVLOOKUP($J66,[1]Database!$B$6:$BI$15000,AC$5,0)&\"-\"&\nVLOOKUP($J66,[1]Database!$B$6:$BI$15000,AC$6,0)&\"-\"&\nVLOOKUP($J66,[1]Database!$B$6:$BI$15000,AC$7,0)&\"-\"&\nVLOOKUP($J66,[1]Database!$B$6:$BI$15000,AC$8,0),\n\"\"))","v":""}]
[null,null,56,null,"",null,"","","","",null,{"$f":"IF($J67<>\"\",VLOOKUP($D67,[1]Database!$E$6:$BI$15000,L$9,0),\"\")","v":""},{"$f":"IF($J67<>\"\",VLOOKUP($J67,[1]Database!$B$6:$BI$15000,M$9,0),\"\")","v":""},{"$f":"IF($J67<>\"\",VLOOKUP($J67,[1]Database!$B$6:$BI$15000,N$9,0),\"\")","v":""},{"$f":"IF($J67<>\"\",M67+'[1]Calc Inputs'!$D$20,\"\")","v":""},{"$f":"IF($J67<>\"\",N67+'[1]Calc Inputs'!$D$24,\"\")","v":""},{"$f":"IF($J67<>\"\",VLOOKUP($J67,[1]Database!$B$6:$BI$15000,Q$9,0),\"\")","v":""},{"$f":"IF($J67<>\"\",VLOOKUP($J67,[1]Database!$B$6:$BI$15000,R$9,0),\"\")","v":""},{"$f":"IF($J67<>\"\",VLOOKUP($J67,[1]Database!$B$6:$BI$15000,S$9,0),\"\")","v":""},{"$f":"IF($J67<>\"\",VLOOKUP($D67,[1]Database!$E$6:$BI$15000,T$9,0),\"\")","v":""},null,"","","","","","","",{"$f":"UPPER(IF($J67<>\"\",\nVLOOKUP($J67,[1]Database!$B$6:$BI$15000,AC$4,0)&\"-\"&\nVLOOKUP($J67,[1]Database!$B$6:$BI$15000,AC$5,0)&\"-\"&\nVLOOKUP($J67,[1]Database!$B$6:$BI$15000,AC$6,0)&\"-\"&\nVLOOKUP($J67,[1]Database!$B$6:$BI$15000,AC$7,0)&\"-\"&\nVLOOKUP($J67,[1]Database!$B$6:$BI$15000,AC$8,0),\n\"\"))","v":""}]
[null,null,57,null,"",null,"","","","",null,{"$f":"IF($J68<>\"\",VLOOKUP($D68,[1]Database!$E$6:$BI$15000,L$9,0),\"\")","v":""},{"$f":"IF($J68<>\"\",VLOOKUP($J68,[1]Database!$B$6:$BI$15000,M$9,0),\"\")","v":""},{"$f":"IF($J68<>\"\",VLOOKUP($J68,[1]Database!$B$6:$BI$15000,N$9,0),\"\")","v":""},{"$f":"IF($J68<>\"\",M68+'[1]Calc Inputs'!$D$20,\"\")","v":""},{"$f":"IF($J68<>\"\",N68+'[1]Calc Inputs'!$D$24,\"\")","v":""},{"$f":"IF($J68<>\"\",VLOOKUP($J68,[1]Database!$B$6:$BI$15000,Q$9,0),\"\")","v":""},{"$f":"IF($J68<>\"\",VLOOKUP($J68,[1]Database!$B$6:$BI$15000,R$9,0),\"\")","v":""},{"$f":"IF($J68<>\"\",VLOOKUP($J68,[1]Database!$B$6:$BI$15000,S$9,0),\"\")","v":""},{"$f":"IF($J68<>\"\",VLOOKUP($D68,[1]Database!$E$6:$BI$15000,T$9,0),\"\")","v":""},null,"","","","","","","",{"$f":"UPPER(IF($J68<>\"\",\nVLOOKUP($J68,[1]Database!$B$6:$BI$15000,AC$4,0)&\"-\"&\nVLOOKUP($J68,[1]Database!$B$6:$BI$15000,AC$5,0)&\"-\"&\nVLOOKUP($J68,[1]Database!$B$6:$BI$15000,AC$6,0)&\"-\"&\nVLOOKUP($J68,[1]Database!$B$6:$BI$15000,AC$7,0)&\"-\"&\nVLOOKUP($J68,[1]Database!$B$6:$BI$15000,AC$8,0),\n\"\"))","v":""}]
[null,null,58,null,"",null,"","","","",null,{"$f":"IF($J69<>\"\",VLOOKUP($D69,[1]Database!$E$6:$BI$15000,L$9,0),\"\")","v":""},{"$f":"IF($J69<>\"\",VLOOKUP($J69,[1]Database!$B$6:$BI$15000,M$9,0),\"\")","v":""},{"$f":"IF($J69<>\"\",VLOOKUP($J69,[1]Database!$B$6:$BI$15000,N$9,0),\"\")","v":""},{"$f":"IF($J69<>\"\",M69+'[1]Calc Inputs'!$D$20,\"\")","v":""},{"$f":"IF($J69<>\"\",N69+'[1]Calc Inputs'!$D$24,\"\")","v":""},{"$f":"IF($J69<>\"\",VLOOKUP($J69,[1]Database!$B$6:$BI$15000,Q$9,0),\"\")","v":""},{"$f":"IF($J69<>\"\",VLOOKUP($J69,[1]Database!$B$6:$BI$15000,R$9,0),\"\")","v":""},{"$f":"IF($J69<>\"\",VLOOKUP($J69,[1]Database!$B$6:$BI$15000,S$9,0),\"\")","v":""},{"$f":"IF($J69<>\"\",VLOOKUP($D69,[1]Database!$E$6:$BI$15000,T$9,0),\"\")","v":""},null,"","","","","","","",{"$f":"UPPER(IF($J69<>\"\",\nVLOOKUP($J69,[1]Database!$B$6:$BI$15000,AC$4,0)&\"-\"&\nVLOOKUP($J69,[1]Database!$B$6:$BI$15000,AC$5,0)&\"-\"&\nVLOOKUP($J69,[1]Database!$B$6:$BI$15000,AC$6,0)&\"-\"&\nVLOOKUP($J69,[1]Database!$B$6:$BI$15000,AC$7,0)&\"-\"&\nVLOOKUP($J69,[1]Database!$B$6:$BI$15000,AC$8,0),\n\"\"))","v":""}]
[null,null,59,null,"",null,"","","","",null,{"$f":"IF($J70<>\"\",VLOOKUP($D70,[1]Database!$E$6:$BI$15000,L$9,0),\"\")","v":""},{"$f":"IF($J70<>\"\",VLOOKUP($J70,[1]Database!$B$6:$BI$15000,M$9,0),\"\")","v":""},{"$f":"IF($J70<>\"\",VLOOKUP($J70,[1]Database!$B$6:$BI$15000,N$9,0),\"\")","v":""},{"$f":"IF($J70<>\"\",M70+'[1]Calc Inputs'!$D$20,\"\")","v":""},{"$f":"IF($J70<>\"\",N70+'[1]Calc Inputs'!$D$24,\"\")","v":""},{"$f":"IF($J70<>\"\",VLOOKUP($J70,[1]Database!$B$6:$BI$15000,Q$9,0),\"\")","v":""},{"$f":"IF($J70<>\"\",VLOOKUP($J70,[1]Database!$B$6:$BI$15000,R$9,0),\"\")","v":""},{"$f":"IF($J70<>\"\",VLOOKUP($J70,[1]Database!$B$6:$BI$15000,S$9,0),\"\")","v":""},{"$f":"IF($J70<>\"\",VLOOKUP($D70,[1]Database!$E$6:$BI$15000,T$9,0),\"\")","v":""},null,"","","","","","","",{"$f":"UPPER(IF($J70<>\"\",\nVLOOKUP($J70,[1]Database!$B$6:$BI$15000,AC$4,0)&\"-\"&\nVLOOKUP($J70,[1]Database!$B$6:$BI$15000,AC$5,0)&\"-\"&\nVLOOKUP($J70,[1]Database!$B$6:$BI$15000,AC$6,0)&\"-\"&\nVLOOKUP($J70,[1]Database!$B$6:$BI$15000,AC$7,0)&\"-\"&\nVLOOKUP($J70,[1]Database!$B$6:$BI$15000,AC$8,0),\n\"\"))","v":""}]
[null,null,60,null,"",null,"","","","",null,{"$f":"IF($J71<>\"\",VLOOKUP($D71,[1]Database!$E$6:$BI$15000,L$9,0),\"\")","v":""},{"$f":"IF($J71<>\"\",VLOOKUP($J71,[1]Database!$B$6:$BI$15000,M$9,0),\"\")","v":""},{"$f":"IF($J71<>\"\",VLOOKUP($J71,[1]Database!$B$6:$BI$15000,N$9,0),\"\")","v":""},{"$f":"IF($J71<>\"\",M71+'[1]Calc Inputs'!$D$20,\"\")","v":""},{"$f":"IF($J71<>\"\",N71+'[1]Calc Inputs'!$D$24,\"\")","v":""},{"$f":"IF($J71<>\"\",VLOOKUP($J71,[1]Database!$B$6:$BI$15000,Q$9,0),\"\")","v":""},{"$f":"IF($J71<>\"\",VLOOKUP($J71,[1]Database!$B$6:$BI$15000,R$9,0),\"\")","v":""},{"$f":"IF($J71<>\"\",VLOOKUP($J71,[1]Database!$B$6:$BI$15000,S$9,0),\"\")","v":""},{"$f":"IF($J71<>\"\",VLOOKUP($D71,[1]Database!$E$6:$BI$15000,T$9,0),\"\")","v":""},null,"","","","","","","",{"$f":"UPPER(IF($J71<>\"\",\nVLOOKUP($J71,[1]Database!$B$6:$BI$15000,AC$4,0)&\"-\"&\nVLOOKUP($J71,[1]Database!$B$6:$BI$15000,AC$5,0)&\"-\"&\nVLOOKUP($J71,[1]Database!$B$6:$BI$15000,AC$6,0)&\"-\"&\nVLOOKUP($J71,[1]Database!$B$6:$BI$15000,AC$7,0)&\"-\"&\nVLOOKUP($J71,[1]Database!$B$6:$BI$15000,AC$8,0),\n\"\"))","v":""}]
[null,null,null," "]

{"sheet":"Track Export 1","index":2,"n_rows":163,"n_cols":4,"rows_kept":163,"cut":false,"hidden":false,"merged":[]}
["R2000",{"$f":"Inputs!AB12","v":""},"+",1]
["R2002",{"$f":"Inputs!W12","v":""},"+",1]
["R2003",{"$f":"Inputs!X12","v":""},"+",1]
["R2004",{"$f":"Inputs!AA12","v":""},"ST",32]
["R2022",{"$f":"Inputs!V12","v":""},"ST",16]
["R2032",{"$f":"Inputs!AC12","v":""},"ST",32]
["R2049",0,null,1]
["R2050",{"$f":"Inputs!AB13","v":""},"+",1]
["R2052",{"$f":"Inputs!W13","v":""},"+",1]
["R2053",{"$f":"Inputs!X13","v":""},"+",1]
["R2054",{"$f":"Inputs!AA13","v":""},"ST",32]
["R2072",{"$f":"Inputs!V13","v":""},"ST",16]
["R2082",{"$f":"Inputs!AC13","v":""},"ST",32]
["R2099",0,null,1]
["R2100",{"$f":"Inputs!AB14","v":""},"+",1]
["R2102",{"$f":"Inputs!W14","v":""},"+",1]
["R2103",{"$f":"Inputs!X14","v":""},"+",1]
["R2104",{"$f":"Inputs!AA14","v":""},"ST",32]
["R2122",{"$f":"Inputs!V14","v":""},"ST",16]
["R2132",{"$f":"Inputs!AC14","v":""},"ST",32]
["R2149",0,null,1]
["R2150",{"$f":"Inputs!AB15","v":""},"+",1]
["R2152",{"$f":"Inputs!W15","v":""},"+",1]
["R2153",{"$f":"Inputs!X15","v":""},"+",1]
["R2154",{"$f":"Inputs!AA15","v":""},"ST",32]
["R2172",{"$f":"Inputs!V15","v":""},"ST",16]
["R2182",{"$f":"Inputs!AC15","v":""},"ST",32]
["R2199",0,null,1]
["R2200",{"$f":"Inputs!AB16","v":""},"+",1]
["R2202",{"$f":"Inputs!W16","v":""},"+",1]
["R2203",{"$f":"Inputs!X16","v":""},"+",1]
["R2204",{"$f":"Inputs!AA16","v":""},"ST",32]
["R2222",{"$f":"Inputs!V16","v":""},"ST",16]
["R2232",{"$f":"Inputs!AC16","v":""},"ST",32]
["R2249",0,null,1]
["R2250",{"$f":"Inputs!AB17","v":""},"+",1]
["R2252",{"$f":"Inputs!W17","v":""},"+",1]
["R2253",{"$f":"Inputs!X17","v":""},"+",1]
["R2254",{"$f":"Inputs!AA17","v":""},"ST",32]
["R2272",{"$f":"Inputs!V17","v":""},"ST",16]
["R2282",{"$f":"Inputs!AC17","v":""},"ST",32]
["R2299",0,null,1]
["R2300",{"$f":"Inputs!AB18","v":""},"+",1]
["R2302",{"$f":"Inputs!W18","v":""},"+",1]
["R2303",{"$f":"Inputs!X18","v":""},"+",1]
["R2304",{"$f":"Inputs!AA18","v":""},"ST",32]
["R2322",{"$f":"Inputs!V18","v":""},"ST",16]
["R2332",{"$f":"Inputs!AC18","v":""},"ST",32]
["R2349",0,null,1]
["R2350",{"$f":"Inputs!AB19","v":""},"+",1]
["R2352",{"$f":"Inputs!W19","v":""},"+",1]
["R2353",{"$f":"Inputs!X19","v":""},"+",1]
["R2354",{"$f":"Inputs!AA19","v":""},"ST",32]
["R2372",{"$f":"Inputs!V19","v":""},"ST",16]
["R2382",{"$f":"Inputs!AC19","v":""},"ST",32]
["R2399",0,null,1]
["R2400",{"$f":"Inputs!AB20","v":""},"+",1]
["R2402",{"$f":"Inputs!W20","v":""},"+",1]
["R2403",{"$f":"Inputs!X20","v":""},"+",1]
["R2404",{"$f":"Inputs!AA20","v":""},"ST",32]
["R2422",{"$f":"Inputs!V20","v":""},"ST",16]
["R2432",{"$f":"Inputs!AC20","v":""},"ST",32]
["R2449",0,null,1]
["R2450",{"$f":"Inputs!AB21","v":""},"+",1]
["R2452",{"$f":"Inputs!W21","v":""},"+",1]
["R2453",{"$f":"Inputs!X21","v":""},"+",1]
["R2454",{"$f":"Inputs!AA21","v":""},"ST",32]
["R2472",{"$f":"Inputs!V21","v":""},"ST",16]
["R2482",{"$f":"Inputs!AC21","v":""},"ST",32]
["R2499",0,null,1]
["R2500",{"$f":"Inputs!AB22","v":""},"+",1]
["R2502",{"$f":"Inputs!W22","v":""},"+",1]
["R2503",{"$f":"Inputs!X22","v":""},"+",1]
["R2504",{"$f":"Inputs!AA22","v":""},"ST",32]
["R2522",{"$f":"Inputs!V22","v":""},"ST",16]
["R2532",{"$f":"Inputs!AC22","v":""},"ST",32]
["R2549",0,null,1]
["R2550",{"$f":"Inputs!AB23","v":""},"+",1]
["R2552",{"$f":"Inputs!W23","v":""},"+",1]
["R2553",{"$f":"Inputs!X23","v":""},"+",1]
["R2554",{"$f":"Inputs!AA23","v":""},"ST",32]
["R2572",{"$f":"Inputs!V23","v":""},"ST",16]
["R2582",{"$f":"Inputs!AC23","v":""},"ST",32]
["R2599",0,null,1]
["R2600",{"$f":"Inputs!AB24","v":""},"+",1]
["R2602",{"$f":"Inputs!W24","v":""},"+",1]
["R2603",{"$f":"Inputs!X24","v":""},"+",1]
["R2604",{"$f":"Inputs!AA24","v":""},"ST",32]
["R2622",{"$f":"Inputs!V24","v":""},"ST",16]
["R2632",{"$f":"Inputs!AC24","v":""},"ST",32]
["R2649",0,null,1]
["R2650",{"$f":"Inputs!AB25","v":""},"+",1]
["R2652",{"$f":"Inputs!W25","v":""},"+",1]
["R2653",{"$f":"Inputs!X25","v":""},"+",1]
["R2654",{"$f":"Inputs!AA25","v":""},"ST",32]
["R2672",{"$f":"Inputs!V25","v":""},"ST",16]
["R2682",{"$f":"Inputs!AC25","v":""},"ST",32]
["R2699",0,null,1]
["R2700",{"$f":"Inputs!AB26","v":""},"+",1]
["R2702",{"$f":"Inputs!W26","v":""},"+",1]
["R2703",{"$f":"Inputs!X26","v":""},"+",1]
["R2704",{"$f":"Inputs!AA26","v":""},"ST",32]
["R2722",{"$f":"Inputs!V26","v":""},"ST",16]
["R2732",{"$f":"Inputs!AC26","v":""},"ST",32]
["R2749",0,null,1]
["R2750",{"$f":"Inputs!AB27","v":""},"+",1]
["R2752",{"$f":"Inputs!W27","v":""},"+",1]
["R2753",{"$f":"Inputs!X27","v":""},"+",1]
["R2754",{"$f":"Inputs!AA27","v":""},"ST",32]
["R2772",{"$f":"Inputs!V27","v":""},"ST",16]
["R2782",{"$f":"Inputs!AC27","v":""},"ST",32]
["R2799",0,null,1]
["R2800",{"$f":"Inputs!AB28","v":""},"+",1]
["R2802",{"$f":"Inputs!W28","v":""},"+",1]
["R2803",{"$f":"Inputs!X28","v":""},"+",1]
["R2804",{"$f":"Inputs!AA28","v":""},"ST",32]
["R2822",{"$f":"Inputs!V28","v":""},"ST",16]
["R2832",{"$f":"Inputs!AC28","v":""},"ST",32]
["R2849",0,null,1]
["R2850",{"$f":"Inputs!AB29","v":""},"+",1]
["R2852",{"$f":"Inputs!W29","v":""},"+",1]
["R2853",{"$f":"Inputs!X29","v":""},"+",1]
["R2854",{"$f":"Inputs!AA29","v":""},"ST",32]
["R2872",{"$f":"Inputs!V29","v":""},"ST",16]
["R2882",{"$f":"Inputs!AC29","v":""},"ST",32]
["R2899",0,null,1]
["R2900",{"$f":"Inputs!AB30","v":""},"+",1]
["R2902",{"$f":"Inputs!W30","v":""},"+",1]
["R2903",{"$f":"Inputs!X30","v":""},"+",1]
["R2904",{"$f":"Inputs!AA30","v":""},"ST",32]
["R2922",{"$f":"Inputs!V30","v":""},"ST",16]
["R2932",{"$f":"Inputs!AC30","v":""},"ST",32]
["R2949",0,null,1]
["R2950",{"$f":"Inputs!AB31","v":""},"+",1]
["R2952",{"$f":"Inputs!W31","v":""},"+",1]
["R2953",{"$f":"Inputs!X31","v":""},"+",1]
["R2954",{"$f":"Inputs!AA31","v":""},"ST",32]
["R2972",{"$f":"Inputs!V31","v":""},"ST",16]
["R2982",{"$f":"Inputs!AC31","v":""},"ST",32]
["R2999",0,null,1]
["D3000",null,"ST",32]
["M80",0,"BI",1]
["M901",0,"BI",1]
["M902",0,"BI",1]
["M903",0,"BI",1]
["M904",0,"BI",1]
["M905",0,"BI",1]
["M906",0,"BI",1]
["M907",0,"BI",1]
["M908",0,"BI",1]
["M909",0,"BI",1]
["M910",0,"BI",1]
["M911",0,"BI",1]
["M912",0,"BI",1]
["M913",0,"BI",1]
["M914",0,"BI",1]
["M915",0,"BI",1]
["M916",0,"BI",1]
["M917",0,"BI",1]
["M918",0,"BI",1]
["M919",0,"BI",1]
["M920",0,"BI",1]
["END"]

{"sheet":"Track Export 2","index":3,"n_rows":163,"n_cols":4,"rows_kept":163,"cut":false,"hidden":false,"merged":[]}
["R2000",{"$f":"Inputs!AB32","v":""},"+",1]
["R2002",{"$f":"Inputs!W32","v":""},"+",1]
["R2003",{"$f":"Inputs!X32","v":""},"+",1]
["R2004",{"$f":"Inputs!AA32","v":""},"ST",32]
["R2022",{"$f":"Inputs!V32","v":""},"ST",16]
["R2032",{"$f":"Inputs!AC32","v":""},"ST",32]
["R2049",0,null,1]
["R2050",{"$f":"Inputs!AB33","v":""},"+",1]
["R2052",{"$f":"Inputs!W33","v":""},"+",1]
["R2053",{"$f":"Inputs!X33","v":""},"+",1]
["R2054",{"$f":"Inputs!AA33","v":""},"ST",32]
["R2072",{"$f":"Inputs!V33","v":""},"ST",16]
["R2082",{"$f":"Inputs!AC33","v":""},"ST",32]
["R2099",0,null,1]
["R2100",{"$f":"Inputs!AB34","v":""},"+",1]
["R2102",{"$f":"Inputs!W34","v":""},"+",1]
["R2103",{"$f":"Inputs!X34","v":""},"+",1]
["R2104",{"$f":"Inputs!AA34","v":""},"ST",32]
["R2122",{"$f":"Inputs!V34","v":""},"ST",16]
["R2132",{"$f":"Inputs!AC34","v":""},"ST",32]
["R2149",0,null,1]
["R2150",{"$f":"Inputs!AB35","v":""},"+",1]
["R2152",{"$f":"Inputs!W35","v":""},"+",1]
["R2153",{"$f":"Inputs!X35","v":""},"+",1]
["R2154",{"$f":"Inputs!AA35","v":""},"ST",32]
["R2172",{"$f":"Inputs!V35","v":""},"ST",16]
["R2182",{"$f":"Inputs!AC35","v":""},"ST",32]
["R2199",0,null,1]
["R2200",{"$f":"Inputs!AB36","v":""},"+",1]
["R2202",{"$f":"Inputs!W36","v":""},"+",1]
["R2203",{"$f":"Inputs!X36","v":""},"+",1]
["R2204",{"$f":"Inputs!AA36","v":""},"ST",32]
["R2222",{"$f":"Inputs!V36","v":""},"ST",16]
["R2232",{"$f":"Inputs!AC36","v":""},"ST",32]
["R2249",0,null,1]
["R2250",{"$f":"Inputs!AB37","v":""},"+",1]
["R2252",{"$f":"Inputs!W37","v":""},"+",1]
["R2253",{"$f":"Inputs!X37","v":""},"+",1]
["R2254",{"$f":"Inputs!AA37","v":""},"ST",32]
["R2272",{"$f":"Inputs!V37","v":""},"ST",16]
["R2282",{"$f":"Inputs!AC37","v":""},"ST",32]
["R2299",0,null,1]
["R2300",{"$f":"Inputs!AB38","v":""},"+",1]
["R2302",{"$f":"Inputs!W38","v":""},"+",1]
["R2303",{"$f":"Inputs!X38","v":""},"+",1]
["R2304",{"$f":"Inputs!AA38","v":""},"ST",32]
["R2322",{"$f":"Inputs!V38","v":""},"ST",16]
["R2332",{"$f":"Inputs!AC38","v":""},"ST",32]
["R2349",0,null,1]
["R2350",{"$f":"Inputs!AB39","v":""},"+",1]
["R2352",{"$f":"Inputs!W39","v":""},"+",1]
["R2353",{"$f":"Inputs!X39","v":""},"+",1]
["R2354",{"$f":"Inputs!AA39","v":""},"ST",32]
["R2372",{"$f":"Inputs!V39","v":""},"ST",16]
["R2382",{"$f":"Inputs!AC39","v":""},"ST",32]
["R2399",0,null,1]
["R2400",{"$f":"Inputs!AB40","v":""},"+",1]
["R2402",{"$f":"Inputs!W40","v":""},"+",1]
["R2403",{"$f":"Inputs!X40","v":""},"+",1]
["R2404",{"$f":"Inputs!AA40","v":""},"ST",32]
["R2422",{"$f":"Inputs!V40","v":""},"ST",16]
["R2432",{"$f":"Inputs!AC40","v":""},"ST",32]
["R2449",0,null,1]
["R2450",{"$f":"Inputs!AB41","v":""},"+",1]
["R2452",{"$f":"Inputs!W41","v":""},"+",1]
["R2453",{"$f":"Inputs!X41","v":""},"+",1]
["R2454",{"$f":"Inputs!AA41","v":""},"ST",32]
["R2472",{"$f":"Inputs!V41","v":""},"ST",16]
["R2482",{"$f":"Inputs!AC41","v":""},"ST",32]
["R2499",0,null,1]
["R2500",{"$f":"Inputs!AB42","v":""},"+",1]
["R2502",{"$f":"Inputs!W42","v":""},"+",1]
["R2503",{"$f":"Inputs!X42","v":""},"+",1]
["R2504",{"$f":"Inputs!AA42","v":""},"ST",32]
["R2522",{"$f":"Inputs!V42","v":""},"ST",16]
["R2532",{"$f":"Inputs!AC42","v":""},"ST",32]
["R2549",0,null,1]
["R2550",{"$f":"Inputs!AB43","v":""},"+",1]
["R2552",{"$f":"Inputs!W43","v":""},"+",1]
["R2553",{"$f":"Inputs!X43","v":""},"+",1]
["R2554",{"$f":"Inputs!AA43","v":""},"ST",32]
["R2572",{"$f":"Inputs!V43","v":""},"ST",16]
["R2582",{"$f":"Inputs!AC43","v":""},"ST",32]
["R2599",0,null,1]
["R2600",{"$f":"Inputs!AB44","v":""},"+",1]
["R2602",{"$f":"Inputs!W44","v":""},"+",1]
["R2603",{"$f":"Inputs!X44","v":""},"+",1]
["R2604",{"$f":"Inputs!AA44","v":""},"ST",32]
["R2622",{"$f":"Inputs!V44","v":""},"ST",16]
["R2632",{"$f":"Inputs!AC44","v":""},"ST",32]
["R2649",0,null,1]
["R2650",{"$f":"Inputs!AB45","v":""},"+",1]
["R2652",{"$f":"Inputs!W45","v":""},"+",1]
["R2653",{"$f":"Inputs!X45","v":""},"+",1]
["R2654",{"$f":"Inputs!AA45","v":""},"ST",32]
["R2672",{"$f":"Inputs!V45","v":""},"ST",16]
["R2682",{"$f":"Inputs!AC45","v":""},"ST",32]
["R2699",0,null,1]
["R2700",{"$f":"Inputs!AB46","v":""},"+",1]
["R2702",{"$f":"Inputs!W46","v":""},"+",1]
["R2703",{"$f":"Inputs!X46","v":""},"+",1]
["R2704",{"$f":"Inputs!AA46","v":""},"ST",32]
["R2722",{"$f":"Inputs!V46","v":""},"ST",16]
["R2732",{"$f":"Inputs!AC46","v":""},"ST",32]
["R2749",0,null,1]
["R2750",{"$f":"Inputs!AB47","v":""},"+",1]
["R2752",{"$f":"Inputs!W47","v":""},"+",1]
["R2753",{"$f":"Inputs!X47","v":""},"+",1]
["R2754",{"$f":"Inputs!AA47","v":""},"ST",32]
["R2772",{"$f":"Inputs!V47","v":""},"ST",16]
["R2782",{"$f":"Inputs!AC47","v":""},"ST",32]
["R2799",0,null,1]
["R2800",{"$f":"Inputs!AB48","v":""},"+",1]
["R2802",{"$f":"Inputs!W48","v":""},"+",1]
["R2803",{"$f":"Inputs!X48","v":""},"+",1]
["R2804",{"$f":"Inputs!AA48","v":""},"ST",32]
["R2822",{"$f":"Inputs!V48","v":""},"ST",16]
["R2832",{"$f":"Inputs!AC48","v":""},"ST",32]
["R2849",0,null,1]
["R2850",{"$f":"Inputs!AB49","v":""},"+",1]
["R2852",{"$f":"Inputs!W49","v":""},"+",1]
["R2853",{"$f":"Inputs!X49","v":""},"+",1]
["R2854",{"$f":"Inputs!AA49","v":""},"ST",32]
["R2872",{"$f":"Inputs!V49","v":""},"ST",16]
["R2882",{"$f":"Inputs!AC49","v":""},"ST",32]
["R2899",0,null,1]
["R2900",{"$f":"Inputs!AB50","v":""},"+",1]
["R2902",{"$f":"Inputs!W50","v":""},"+",1]
["R2903",{"$f":"Inputs!X50","v":""},"+",1]
["R2904",{"$f":"Inputs!AA50","v":""},"ST",32]
["R2922",{"$f":"Inputs!V50","v":""},"ST",16]
["R2932",{"$f":"Inputs!AC50","v":""},"ST",32]
["R2949",0,null,1]
["R2950",{"$f":"Inputs!AB51","v":""},"+",1]
["R2952",{"$f":"Inputs!W51","v":""},"+",1]
["R2953",{"$f":"Inputs!X51","v":""},"+",1]
["R2954",{"$f":"Inputs!AA51","v":""},"ST",32]
["R2972",{"$f":"Inputs!V51","v":""},"ST",16]
["R2982",{"$f":"Inputs!AC51","v":""},"ST",32]
["R2999",0,null,1]
["D3000",null,"ST",32]
["M80",0,"BI",1]
["M901",0,"BI",1]
["M902",0,"BI",1]
["M903",0,"BI",1]
["M904",0,"BI",1]
["M905",0,"BI",1]
["M906",0,"BI",1]
["M907",0,"BI",1]
["M908",0,"BI",1]
["M909",0,"BI",1]
["M910",0,"BI",1]
["M911",0,"BI",1]
["M912",0,"BI",1]
["M913",0,"BI",1]
["M914",0,"BI",1]
["M915",0,"BI",1]
["M916",0,"BI",1]
["M917",0,"BI",1]
["M918",0,"BI",1]
["M919",0,"BI",1]
["M920",0,"BI",1]
["END"]

{"sheet":"Track Export 3","index":4,"n_rows":163,"n_cols":4,"rows_kept":163,"cut":false,"hidden":false,"merged":[]}
["R2000",{"$f":"Inputs!AB52","v":""},"+",1]
["R2002",{"$f":"Inputs!W52","v":""},"+",1]
["R2003",{"$f":"Inputs!X52","v":""},"+",1]
["R2004",{"$f":"Inputs!AA52","v":""},"ST",32]
["R2022",{"$f":"Inputs!V52","v":""},"ST",16]
["R2032",{"$f":"Inputs!AC52","v":""},"ST",32]
["R2049",0,null,1]
["R2050",{"$f":"Inputs!AB53","v":""},"+",1]
["R2052",{"$f":"Inputs!W53","v":""},"+",1]
["R2053",{"$f":"Inputs!X53","v":""},"+",1]
["R2054",{"$f":"Inputs!AA53","v":""},"ST",32]
["R2072",{"$f":"Inputs!V53","v":""},"ST",16]
["R2082",{"$f":"Inputs!AC53","v":""},"ST",32]
["R2099",0,null,1]
["R2100",{"$f":"Inputs!AB54","v":""},"+",1]
["R2102",{"$f":"Inputs!W54","v":""},"+",1]
["R2103",{"$f":"Inputs!X54","v":""},"+",1]
["R2104",{"$f":"Inputs!AA54","v":""},"ST",32]
["R2122",{"$f":"Inputs!V54","v":""},"ST",16]
["R2132",{"$f":"Inputs!AC54","v":""},"ST",32]
["R2149",0,null,1]
["R2150",{"$f":"Inputs!AB55","v":""},"+",1]
["R2152",{"$f":"Inputs!W55","v":""},"+",1]
["R2153",{"$f":"Inputs!X55","v":""},"+",1]
["R2154",{"$f":"Inputs!AA55","v":""},"ST",32]
["R2172",{"$f":"Inputs!V55","v":""},"ST",16]
["R2182",{"$f":"Inputs!AC55","v":""},"ST",32]
["R2199",0,null,1]
["R2200",{"$f":"Inputs!AB56","v":""},"+",1]
["R2202",{"$f":"Inputs!W56","v":""},"+",1]
["R2203",{"$f":"Inputs!X56","v":""},"+",1]
["R2204",{"$f":"Inputs!AA56","v":""},"ST",32]
["R2222",{"$f":"Inputs!V56","v":""},"ST",16]
["R2232",{"$f":"Inputs!AC56","v":""},"ST",32]
["R2249",0,null,1]
["R2250",{"$f":"Inputs!AB57","v":""},"+",1]
["R2252",{"$f":"Inputs!W57","v":""},"+",1]
["R2253",{"$f":"Inputs!X57","v":""},"+",1]
["R2254",{"$f":"Inputs!AA57","v":""},"ST",32]
["R2272",{"$f":"Inputs!V57","v":""},"ST",16]
["R2282",{"$f":"Inputs!AC57","v":""},"ST",32]
["R2299",0,null,1]
["R2300",{"$f":"Inputs!AB58","v":""},"+",1]
["R2302",{"$f":"Inputs!W58","v":""},"+",1]
["R2303",{"$f":"Inputs!X58","v":""},"+",1]
["R2304",{"$f":"Inputs!AA58","v":""},"ST",32]
["R2322",{"$f":"Inputs!V58","v":""},"ST",16]
["R2332",{"$f":"Inputs!AC58","v":""},"ST",32]
["R2349",0,null,1]
["R2350",{"$f":"Inputs!AB59","v":""},"+",1]
["R2352",{"$f":"Inputs!W59","v":""},"+",1]
["R2353",{"$f":"Inputs!X59","v":""},"+",1]
["R2354",{"$f":"Inputs!AA59","v":""},"ST",32]
["R2372",{"$f":"Inputs!V59","v":""},"ST",16]
["R2382",{"$f":"Inputs!AC59","v":""},"ST",32]
["R2399",0,null,1]
["R2400",{"$f":"Inputs!AB60","v":""},"+",1]
["R2402",{"$f":"Inputs!W60","v":""},"+",1]
["R2403",{"$f":"Inputs!X60","v":""},"+",1]
["R2404",{"$f":"Inputs!AA60","v":""},"ST",32]
["R2422",{"$f":"Inputs!V60","v":""},"ST",16]
["R2432",{"$f":"Inputs!AC60","v":""},"ST",32]
["R2449",0,null,1]
["R2450",{"$f":"Inputs!AB61","v":""},"+",1]
["R2452",{"$f":"Inputs!W61","v":""},"+",1]
["R2453",{"$f":"Inputs!X61","v":""},"+",1]
["R2454",{"$f":"Inputs!AA61","v":""},"ST",32]
["R2472",{"$f":"Inputs!V61","v":""},"ST",16]
["R2482",{"$f":"Inputs!AC61","v":""},"ST",32]
["R2499",0,null,1]
["R2500",{"$f":"Inputs!AB62","v":""},"+",1]
["R2502",{"$f":"Inputs!W62","v":""},"+",1]
["R2503",{"$f":"Inputs!X62","v":""},"+",1]
["R2504",{"$f":"Inputs!AA62","v":""},"ST",32]
["R2522",{"$f":"Inputs!V62","v":""},"ST",16]
["R2532",{"$f":"Inputs!AC62","v":""},"ST",32]
["R2549",0,null,1]
["R2550",{"$f":"Inputs!AB63","v":""},"+",1]
["R2552",{"$f":"Inputs!W63","v":""},"+",1]
["R2553",{"$f":"Inputs!X63","v":""},"+",1]
["R2554",{"$f":"Inputs!AA63","v":""},"ST",32]
["R2572",{"$f":"Inputs!V63","v":""},"ST",16]
["R2582",{"$f":"Inputs!AC63","v":""},"ST",32]
["R2599",0,null,1]
["R2600",{"$f":"Inputs!AB64","v":""},"+",1]
["R2602",{"$f":"Inputs!W64","v":""},"+",1]
["R2603",{"$f":"Inputs!X64","v":""},"+",1]
["R2604",{"$f":"Inputs!AA64","v":""},"ST",32]
["R2622",{"$f":"Inputs!V64","v":""},"ST",16]
["R2632",{"$f":"Inputs!AC64","v":""},"ST",32]
["R2649",0,null,1]
["R2650",{"$f":"Inputs!AB65","v":""},"+",1]
["R2652",{"$f":"Inputs!W65","v":""},"+",1]
["R2653",{"$f":"Inputs!X65","v":""},"+",1]
["R2654",{"$f":"Inputs!AA65","v":""},"ST",32]
["R2672",{"$f":"Inputs!V65","v":""},"ST",16]
["R2682",{"$f":"Inputs!AC65","v":""},"ST",32]
["R2699",0,null,1]
["R2700",{"$f":"Inputs!AB66","v":""},"+",1]
["R2702",{"$f":"Inputs!W66","v":""},"+",1]
["R2703",{"$f":"Inputs!X66","v":""},"+",1]
["R2704",{"$f":"Inputs!AA66","v":""},"ST",32]
["R2722",{"$f":"Inputs!V66","v":""},"ST",16]
["R2732",{"$f":"Inputs!AC66","v":""},"ST",32]
["R2749",0,null,1]
["R2750",{"$f":"Inputs!AB67","v":""},"+",1]
["R2752",{"$f":"Inputs!W67","v":""},"+",1]
["R2753",{"$f":"Inputs!X67","v":""},"+",1]
["R2754",{"$f":"Inputs!AA67","v":""},"ST",32]
["R2772",{"$f":"Inputs!V67","v":""},"ST",16]
["R2782",{"$f":"Inputs!AC67","v":""},"ST",32]
["R2799",0,null,1]
["R2800",{"$f":"Inputs!AB68","v":""},"+",1]
["R2802",{"$f":"Inputs!W68","v":""},"+",1]
["R2803",{"$f":"Inputs!X68","v":""},"+",1]
["R2804",{"$f":"Inputs!AA68","v":""},"ST",32]
["R2822",{"$f":"Inputs!V68","v":""},"ST",16]
["R2832",{"$f":"Inputs!AC68","v":""},"ST",32]
["R2849",0,null,1]
["R2850",{"$f":"Inputs!AB69","v":""},"+",1]
["R2852",{"$f":"Inputs!W69","v":""},"+",1]
["R2853",{"$f":"Inputs!X69","v":""},"+",1]
["R2854",{"$f":"Inputs!AA69","v":""},"ST",32]
["R2872",{"$f":"Inputs!V69","v":""},"ST",16]
["R2882",{"$f":"Inputs!AC69","v":""},"ST",32]
["R2899",0,null,1]
["R2900",{"$f":"Inputs!AB70","v":""},"+",1]
["R2902",{"$f":"Inputs!W70","v":""},"+",1]
["R2903",{"$f":"Inputs!X70","v":""},"+",1]
["R2904",{"$f":"Inputs!AA70","v":""},"ST",32]
["R2922",{"$f":"Inputs!V70","v":""},"ST",16]
["R2932",{"$f":"Inputs!AC70","v":""},"ST",32]
["R2949",0,null,1]
["R2950",{"$f":"Inputs!AB71","v":""},"+",1]
["R2952",{"$f":"Inputs!W71","v":""},"+",1]
["R2953",{"$f":"Inputs!X71","v":""},"+",1]
["R2954",{"$f":"Inputs!AA71","v":""},"ST",32]
["R2972",{"$f":"Inputs!V71","v":""},"ST",16]
["R2982",{"$f":"Inputs!AC71","v":""},"ST",32]
["R2999",0,null,1]
["D3000",null,"ST",32]
["M80",0,"BI",1]
["M901",0,"BI",1]
["M902",0,"BI",1]
["M903",0,"BI",1]
["M904",0,"BI",1]
["M905",0,"BI",1]
["M906",0,"BI",1]
["M907",0,"BI",1]
["M908",0,"BI",1]
["M909",0,"BI",1]
["M910",0,"BI",1]
["M911",0,"BI",1]
["M912",0,"BI",1]
["M913",0,"BI",1]
["M914",0,"BI",1]
["M915",0,"BI",1]
["M916",0,"BI",1]
["M917",0,"BI",1]
["M918",0,"BI",1]
["M919",0,"BI",1]
["M920",0,"BI",1]
["END"]